BEGIN:VCALENDAR
VERSION:2.0
PRODID:-//Patriot Guard Riders - ECPv5.3.2.1//NONSGML v1.0//EN
CALSCALE:GREGORIAN
METHOD:PUBLISH
X-WR-CALNAME:Patriot Guard Riders
X-ORIGINAL-URL:https://www.patriotguard.org
X-WR-CALDESC:Events for Patriot Guard Riders
BEGIN:VTIMEZONE
TZID:America/New_York
BEGIN:DAYLIGHT
TZOFFSETFROM:-0500
TZOFFSETTO:-0400
TZNAME:EDT
DTSTART:20190310T070000
END:DAYLIGHT
BEGIN:STANDARD
TZOFFSETFROM:-0400
TZOFFSETTO:-0500
TZNAME:EST
DTSTART:20191103T060000
END:STANDARD
END:VTIMEZONE
BEGIN:VEVENT
DTSTART;VALUE=DATE:20190920
DTEND;VALUE=DATE:20190921
DTSTAMP:20210401T015656
CREATED:20190919T024801Z
LAST-MODIFIED:20190919T024801Z
UID:175181-1568937600-1569023999@www.patriotguard.org
SUMMARY:Johnny Sam Jones Sr
DESCRIPTION:Honor Mission\nJohnny Sam Jones Sr.\, Veteran\nUSA – Vietnam\nWashington\, Mississippi – 09-20-19\n\n\n\nABOUT THE MISSION: \nSgt. Jones proudly and honorably served in the U.S. Army two years with MAT II 68th TM USARV\, including one year in Vietnam. His medals and badges include Vietnam Service Medal\, Vietnam Campaign Medal\, Combat Infantryman Badge\, National Defense Medal. He was employed at Armstrong Tire 22 years then was elected Chief of Police of Ridgecrest. During that time\, he also worked for Concordia Parish Sheriff’s Office and retired after 32 years.\n\n\nPRIMARY STAGING DETAILS: 09-20-19 \nStaging Time: 2:00 PM\n \nIntersection of Hwy 84 and 61\nWashington\, Mississippi 39190\n\n\nRide Captain: \nHervey Littlefield\n601-754-2061\n\n\nSpecial Instructions: \n\n\nFlags & Water:\nFlags will be provided\nIf you have large bike flags\, please bring them.\nWater WILL NOT be provided\, please bring your own.\n\n\n\nSubmitted By: Roger Barrett \nPosition: Mississippi State Captain \n\nNote: You do not have to own/ride a motorcycle or be a veteran to join\, and membership is Free. The only requirement is RESPECT! To subscribe to receive mission notices\, log into the National Site and click on the Members tab at the top. Select the Subscribe to PGR Missions option.\n Print This Page
URL:https://www.patriotguard.org/mission/johnny-sam-jones-sr/
CATEGORIES:Honor Mission
END:VEVENT
END:VCALENDAR