BEGIN:VCALENDAR
VERSION:2.0
PRODID:-//Patriot Guard Riders - ECPv5.6.0//NONSGML v1.0//EN
CALSCALE:GREGORIAN
METHOD:PUBLISH
X-WR-CALNAME:Patriot Guard Riders
X-ORIGINAL-URL:https://www.patriotguard.org
X-WR-CALDESC:Events for Patriot Guard Riders
BEGIN:VTIMEZONE
TZID:America/New_York
BEGIN:DAYLIGHT
TZOFFSETFROM:-0500
TZOFFSETTO:-0400
TZNAME:EDT
DTSTART:20210314T070000
END:DAYLIGHT
BEGIN:STANDARD
TZOFFSETFROM:-0400
TZOFFSETTO:-0500
TZNAME:EST
DTSTART:20211107T060000
END:STANDARD
END:VTIMEZONE
BEGIN:VEVENT
DTSTART;VALUE=DATE:20210516
DTEND;VALUE=DATE:20210517
DTSTAMP:20210513T223139
CREATED:20210512T130734Z
LAST-MODIFIED:20210512T130734Z
UID:576550-1621123200-1621209599@www.patriotguard.org
SUMMARY:Johnny Paul Pittman
DESCRIPTION:HOTH Mission\nJohnny Paul Pittman\, Veteran\nUSMC – Vietnam\nCanton\, Ohio – 05-16-21\n\n\n\nABOUT THE MISSION: \nThe family has requested a mission to raise the spirits of this Vietnam Veteran. We will be doing just that as well as welcome him home and let him know his service has not been forgotten.\n\n\nPRIMARY STAGING DETAILS: 05-16-21 \nStaging Time: 2:00 PM\n \nMarcs (Corner of Tusc & Perry)\n5123 Tuscarawas St W\nCanton\, Ohio 44708\n\n\nRide Captain: \nJim Myers (jmyers0620@yahoo.com)\n\n\nSpecial Instructions: \nImportant Message Regarding COVID-19: Stay at least 6 feet (2 meters) from other people. YOU Must Cover your mouth and nose.\nWe will be outdoors holding our American flags and MAINTAINING A SIX-FOOT DISTANCE FROM EACH OTHER AT ALL TIMES.\n\n\nFlags & Water:\nFlags will not be provided\nIf you have large bike flags\, please bring them.\nWater WILL NOT be provided\, please bring your own.\n\n\nSubmitted By: Patrick O’Connor \nPosition: Ohio Assistant State Captain \n\nNote: You do not have to own/ride a motorcycle or be a veteran to join\, and membership is Free. The only requirement is RESPECT! To subscribe to receive mission notices\, log into the National Site and click on the Members tab at the top. Select the Subscribe to PGR Missions option.\n Print This Page
URL:https://www.patriotguard.org/mission/johnny-paul-pittman/
CATEGORIES:HOTH Mission
END:VEVENT
END:VCALENDAR