BEGIN:VCALENDAR
VERSION:2.0
PRODID:-//Patriot Guard Riders - ECPv5.3.2.1//NONSGML v1.0//EN
CALSCALE:GREGORIAN
METHOD:PUBLISH
X-WR-CALNAME:Patriot Guard Riders
X-ORIGINAL-URL:https://www.patriotguard.org
X-WR-CALDESC:Events for Patriot Guard Riders
BEGIN:VTIMEZONE
TZID:America/New_York
BEGIN:DAYLIGHT
TZOFFSETFROM:-0500
TZOFFSETTO:-0400
TZNAME:EDT
DTSTART:20170312T070000
END:DAYLIGHT
BEGIN:STANDARD
TZOFFSETFROM:-0400
TZOFFSETTO:-0500
TZNAME:EST
DTSTART:20171105T060000
END:STANDARD
END:VTIMEZONE
BEGIN:VEVENT
DTSTART;TZID=America/New_York:20170318T093000
DTEND;TZID=America/New_York:20170318T113000
DTSTAMP:20210403T044835
CREATED:20170318T133000Z
LAST-MODIFIED:20191201T034852Z
UID:344867-1489829400-1489836600@www.patriotguard.org
SUMMARY:Johnny A. Davis\, USA
DESCRIPTION:Johnny A. Davis\, 70\nUSA\nNashville\, Tennessee – 18 Mar 2017\n\n\n[HR][/HR] \n\n\nABOUT THE MISSION: \nJohnny was a motorcycle enthusiast and the family would appreciate motorcycle participation.\nVisitation: 11am to 1pm\nService: 1pm following visitation\nBurial will take place following a 63 mile ride to Dripping Springs Church Cemetery at 4145 Watermelon Rd.\, Olmstead\, KY \nPRIMARY STAGING DETAILS:  18 Mar 2017 \n\n\n\nPrimary Staging Time:  1030 A.M.\n\nPhillips Robinson Funeral Home\n2707 Gallatin Pike\n(corner of Spain Ave)\n\nNashville\, Tennessee – 37216\n\n36.200\, -86.741 \n\n\n\nRide Captain:\n\nAldo Calabrese\n(615) 439-4756\n\n\nSpecial Instructions:\n\nstage at funeral home to set up flag line\n\n\nFlags & Water:\n\nFlags Will Be Provided\n\nLarge Bike Flags will NOT be needed.\n\nWater WILL NOT be provided\, please bring your own.\n\n\nSubmitted By:  David Westhorp\nPosition:  State Captain \n[HR][/HR]\nNote:\nYou do not have to own/ride a motorcycle or be a Veteran to join and membership is Free. The only requirement is RESPECT! To join\, simply go to Patriot Guard website and click on Register. Membership is Free. \nTo subscribe to receive mission notices\, log into the National Site and   click on the Mission Tab at the top. Select Upcoming Missions by State.   Scroll to the state(s) you would like to receive notices for and click   on the green check mark. Detailed instructions are also located in the   FAQs on the site by clicking on the Quick Links Tab and selecting  FAQs.
URL:https://www.patriotguard.org/mission/johnny-a-davis-usa/
END:VEVENT
END:VCALENDAR