BEGIN:VCALENDAR
VERSION:2.0
PRODID:-//Patriot Guard Riders - ECPv5.3.2.1//NONSGML v1.0//EN
CALSCALE:GREGORIAN
METHOD:PUBLISH
X-WR-CALNAME:Patriot Guard Riders
X-ORIGINAL-URL:https://www.patriotguard.org
X-WR-CALDESC:Events for Patriot Guard Riders
BEGIN:VTIMEZONE
TZID:America/New_York
BEGIN:DAYLIGHT
TZOFFSETFROM:-0500
TZOFFSETTO:-0400
TZNAME:EDT
DTSTART:20190310T070000
END:DAYLIGHT
BEGIN:STANDARD
TZOFFSETFROM:-0400
TZOFFSETTO:-0500
TZNAME:EST
DTSTART:20191103T060000
END:STANDARD
END:VTIMEZONE
BEGIN:VEVENT
DTSTART;VALUE=DATE:20190726
DTEND;VALUE=DATE:20190728
DTSTAMP:20210403T190826
CREATED:20190724T215839Z
LAST-MODIFIED:20190724T215839Z
UID:168687-1564099200-1564271999@www.patriotguard.org
SUMMARY:Johnnie "John" Lee Gaddis
DESCRIPTION:Honor Mission\nJohnnie “John” Lee Gaddis\, Retired\nUSA\, ARNG – WoT\nGastonia\, North Carolina – 07-26-19\n\n\n\nABOUT THE MISSION: \nMSGT Johnnie ‘John’ Lee Gaddis served our country for 33 and a half years in the U.S. Army and the Army National Guard. He served in the Army 505th Engineering Battalion in Gastonia as well as the 30th Brigade out of Charlotte. MSGT Gaddis was awarded: Army Commendation Award\, Army Achievement Award (2nd award)\, Army Reserve Components Achievement Metal (5th award)\, National Defense Service Metal (2nd award)\, Armed Forces Expeditionary Metal\, Global War on Terrorism Service Metal\, Humanitarian Service Award (2nd award)\, Iraq Campaign Metal w/ Campaign Star\, Noncommissioned Officer Professional Development Ribbon\, Army Service Ribbon\, Overseas Service Ribbon\, Army Reserve Component Overseas Training Ribbon\, Armed Forces Reserve Metal w/ M Device\, Armed Forces Reserve Metal (2nd award).\n\n\nPRIMARY STAGING DETAILS: 07-26-19 \nStaging Time: 4:30 PM\n \nMcLean Funeral Directors of Gastonia\n700 S. New Hope Rd\nGastonia\, North Carolina 28054\nMap\n\n\nRide Captain: \nBenny Hayslett\n704-477-5015\nbh241@carolina.rr.com\n\n\nSpecial Instructions: \n4:15pm – briefing and then establish flag line for visitation.\nWe will hold flag line till the end of visitation at 7:00pm when we will quietly depart.\n\n\nFlags & Water:\nFlags will be provided\nLarge Bike Flags will NOT be needed.\nWater will be provided.\n\nSTAGING #2 DETAILS: 07-27-19 \nStaging Time: 11:45 AM\n \nMcLean Funeral Directors of Gastonia\n700 S. New Hope Rd\nGastonia\, North Carolina 28054\nMap\n\n\nRide Captain: \nBenny Hayslett\n704-477-5015\nbh241@carolina.rr.com\n\n\nSpecial Instructions: \n11:45am: Mission and Safety Briefing (Must attend in order to participate in escort).\n12:00 Noon: Establish Flag line for Service.\n1:00pm: Start of service.\n2:00: *time approximately* – KSU to: Hillcrest Gardens\, 1508 Charles Raper Jonas Hwy\, Mt. Holly\, NC. 28120\n2:30 * approximate time* – Flag line for burial with full military honors.\n\n\nFlags & Water:\nFlags will be provided\nIf you have large bike flags\, please bring them.\nWater will be provided.\n\n\n\nSubmitted By: Benny Hayslett \nPosition: North Carolina Ride Captain \n\nNote: You do not have to own/ride a motorcycle or be a veteran to join\, and membership is Free. The only requirement is RESPECT! To subscribe to receive mission notices\, log into the National Site and click on the Members tab at the top. Select the Subscribe to PGR Missions option.\n Print This Page
URL:https://www.patriotguard.org/mission/johnnie-john-lee-gaddis/
CATEGORIES:Honor Mission
END:VEVENT
END:VCALENDAR