BEGIN:VCALENDAR
VERSION:2.0
PRODID:-//Patriot Guard Riders - ECPv5.3.2.1//NONSGML v1.0//EN
CALSCALE:GREGORIAN
METHOD:PUBLISH
X-WR-CALNAME:Patriot Guard Riders
X-ORIGINAL-URL:https://www.patriotguard.org
X-WR-CALDESC:Events for Patriot Guard Riders
BEGIN:VTIMEZONE
TZID:America/New_York
BEGIN:DAYLIGHT
TZOFFSETFROM:-0500
TZOFFSETTO:-0400
TZNAME:EDT
DTSTART:20190310T070000
END:DAYLIGHT
BEGIN:STANDARD
TZOFFSETFROM:-0400
TZOFFSETTO:-0500
TZNAME:EST
DTSTART:20191103T060000
END:STANDARD
END:VTIMEZONE
BEGIN:VEVENT
DTSTART;VALUE=DATE:20190225
DTEND;VALUE=DATE:20190226
DTSTAMP:20210403T104652
CREATED:20190224T001337Z
LAST-MODIFIED:20190224T001501Z
UID:151174-1551052800-1551139199@www.patriotguard.org
SUMMARY:John Wylie Meadows
DESCRIPTION:Honor Mission\nJohn Wylie Meadows\, Veteran\nUSMC –\nPensacola\, Florida – 02-25-19\n\n\n\n\nABOUT THE MISSION: \nThe Patriot Guard has been invited by the family of Cpl John W. Meadows (77)\, United States Marine Corps\, to stand in his honor and escort him to the Barrancas National Cemetery. Cpl. Meadows served in the U.S. Marine Corps from October 1961 to November 1965. His awards and decorations include the Nat’l Defense Service Medal and the Armed Forces Expeditionary Medal.\n\n\nPRIMARY STAGING DETAILS: 02-25-19 \nStaging Time: 11:30 AM\n \nWhataburger\n5480 Pensacola Blvd\nPensacola\, Florida\n\n\nRide Captain: \nLinda “Sparkle” Caton\nLindacaton49@cox.net\n850-217-4193\n\n\nSpecial Instructions: \nNaval Air Station Pensacola requires long sleeve shirts\, long trousers\, long fingered gloves\, DOT approved helmets\, leather foot wear covering the ankles\, and appropriate eye protection. This attire will always be maintained while riding aboard NAS Pensacola.\n12:15-Safety Brief for all riders\n12:30-KSU to Trahan Family Funeral Home\, 419 Yoakum Ct\, Pensacola\, FL.\n1:00-KSU to Barrancas National Cemetery\, NAS Pensacola\, FL w/LEO escort\n1:30-Honors at Barrancus National Cemetery\n\n\nFlags & Water:\nFlags will be provided\nIf you have large bike flags\, please bring them.\nWater will be provided.\n\n\n\nSubmitted By: Ray Doyle \nPosition: Florida Assistant State Captain \n\nNote: You do not have to own/ride a motorcycle or be a veteran to join\, and membership is Free. The only requirement is RESPECT! To subscribe to receive mission notices\, log into the National Site and click on the Members tab at the top. Select the Subscribe to PGR Missions option.\n Print This Page
URL:https://www.patriotguard.org/mission/john-wylie-meadows/
CATEGORIES:Honor Mission
END:VEVENT
END:VCALENDAR