BEGIN:VCALENDAR
VERSION:2.0
PRODID:-//Patriot Guard Riders - ECPv5.6.0//NONSGML v1.0//EN
CALSCALE:GREGORIAN
METHOD:PUBLISH
X-WR-CALNAME:Patriot Guard Riders
X-ORIGINAL-URL:https://www.patriotguard.org
X-WR-CALDESC:Events for Patriot Guard Riders
BEGIN:VTIMEZONE
TZID:America/New_York
BEGIN:DAYLIGHT
TZOFFSETFROM:-0500
TZOFFSETTO:-0400
TZNAME:EDT
DTSTART:20160313T070000
END:DAYLIGHT
BEGIN:STANDARD
TZOFFSETFROM:-0400
TZOFFSETTO:-0500
TZNAME:EST
DTSTART:20161106T060000
END:STANDARD
END:VTIMEZONE
BEGIN:VEVENT
DTSTART;TZID=America/New_York:20160806T090000
DTEND;TZID=America/New_York:20160806T110000
DTSTAMP:20210512T012253
CREATED:20160806T130000Z
LAST-MODIFIED:20191201T143751Z
UID:410079-1470474000-1470481200@www.patriotguard.org
SUMMARY:John Williams\, USA Veteran
DESCRIPTION:The  family of USA Veteran & PGR member John “JP” Williams has asked the PGR  to stand a flag line at his services to be held on 6 Aug. 2016 in Okla.  City\, OK. \nServices will be held at Resthaven Funeral Home Chapel\, 500  SW 104th St.\, Okla. City\, OK. at 1000. \nInterment will follow  in Resthaven Memory Gardens adjacent to the funeral home\, Oklahoma  City\, OK. \nDate:\n1000 hrs\, Saturday\, 06 August\, 2016 \nStaging:\n0915 \nResthaven Funeral Home\n500 SW 104th St.\nOkla. City\, OK. \nMandatory Briefing:\n0930\nRiders must attend Briefing if riding in escort. \nSet flag line:\n0945 hrs \n The  riders will set a flag line for incoming friends and family. Upon  completion of service\, a respect line will be formed as he is brought to  the coach.  An escort will be provided to the interment site in  Resthaven Memory Gardens where a second respect line will be set.  \nWeather: Sunny with a high of 97.  Please hydrate before and during mission \nRCIC: Ray (rayneman) Gehrig \n405-517-9538
URL:https://www.patriotguard.org/mission/john-williams-usa-veteran/
CATEGORIES:Archive
END:VEVENT
END:VCALENDAR