BEGIN:VCALENDAR
VERSION:2.0
PRODID:-//Patriot Guard Riders - ECPv5.3.2.1//NONSGML v1.0//EN
CALSCALE:GREGORIAN
METHOD:PUBLISH
X-WR-CALNAME:Patriot Guard Riders
X-ORIGINAL-URL:https://www.patriotguard.org
X-WR-CALDESC:Events for Patriot Guard Riders
BEGIN:VTIMEZONE
TZID:America/New_York
BEGIN:DAYLIGHT
TZOFFSETFROM:-0500
TZOFFSETTO:-0400
TZNAME:EDT
DTSTART:20190310T070000
END:DAYLIGHT
BEGIN:STANDARD
TZOFFSETFROM:-0400
TZOFFSETTO:-0500
TZNAME:EST
DTSTART:20191103T060000
END:STANDARD
END:VTIMEZONE
BEGIN:VEVENT
DTSTART;VALUE=DATE:20190820
DTEND;VALUE=DATE:20190821
DTSTAMP:20210402T073114
CREATED:20190818T173958Z
LAST-MODIFIED:20190818T173958Z
UID:171218-1566259200-1566345599@www.patriotguard.org
SUMMARY:John William Page
DESCRIPTION:Honor Mission\nJohn William Page\, Veteran\nUSN – Korea\nCunningham\, Texas – 08-20-19\n\n\n\nABOUT THE MISSION: \nMr. Page\, the son of Zeb Page & Dessie Lee Ellis Page\, was born Aug. 18\, 1930\, in Cunningham. He graduated from Cunningham High School. Bill served in the United States Navy during the Korean Conflict. Upon his honorable discharge from the military he worked for Southwestern Public Service in Dumas\, retiring following a career that spanned more than forty years. After retirement\, he and his wife moved back to Lamar County. He was a member of the Cunningham Baptist Church.\n\n\nPRIMARY STAGING DETAILS: 08-20-19 \nStaging Time: 08:30 AM\n \nCunningham Baptist Church\n12567 FM 196\nCunningham\, Texas 75434\nMap\n\n\nRide Captain: \nJohn Herrington\n903-249-1622\nbarhcustom@gmail.com\n\n\nSpecial Instructions: \nStage: 8:00 AM to 8:30 AM with a riders meeting at 8:30 AM.\nDirections to the cemetery will be given by the Ride Captain.\nWe will be escorting to Restland Cemetery on FM 196\, Cunningham TX.\nBIG FLAG BIKES APPRECIATED.\nPlease remain flexible as to the requirements of the mission.(SEMPER GUMBY\n\n\nFlags & Water:\nFlags will be provided\nIf you have large bike flags\, please bring them.\nWater will be provided.\n\n\n\nSubmitted By: Michael Eubank \nPosition: Texas Deputy State Captain \n\nNote: You do not have to own/ride a motorcycle or be a veteran to join\, and membership is Free. The only requirement is RESPECT! To subscribe to receive mission notices\, log into the National Site and click on the Members tab at the top. Select the Subscribe to PGR Missions option.\n Print This Page
URL:https://www.patriotguard.org/mission/john-william-page/
CATEGORIES:Honor Mission
END:VEVENT
END:VCALENDAR