BEGIN:VCALENDAR
VERSION:2.0
PRODID:-//Patriot Guard Riders - ECPv5.3.2.1//NONSGML v1.0//EN
CALSCALE:GREGORIAN
METHOD:PUBLISH
X-WR-CALNAME:Patriot Guard Riders
X-ORIGINAL-URL:https://www.patriotguard.org
X-WR-CALDESC:Events for Patriot Guard Riders
BEGIN:VTIMEZONE
TZID:America/New_York
BEGIN:DAYLIGHT
TZOFFSETFROM:-0500
TZOFFSETTO:-0400
TZNAME:EDT
DTSTART:20190310T070000
END:DAYLIGHT
BEGIN:STANDARD
TZOFFSETFROM:-0400
TZOFFSETTO:-0500
TZNAME:EST
DTSTART:20191103T060000
END:STANDARD
END:VTIMEZONE
BEGIN:VEVENT
DTSTART;VALUE=DATE:20190531
DTEND;VALUE=DATE:20190601
DTSTAMP:20210405T070141
CREATED:20190519T190625Z
LAST-MODIFIED:20190519T190625Z
UID:161744-1559260800-1559347199@www.patriotguard.org
SUMMARY:John William Donley
DESCRIPTION:Honor Mission\nJohn William Donley\, Veteran\nUSA – Vietnam\nCarefree\, Arizona – 05-31-19\n\n\n\n\nABOUT THE MISSION: \nBill Donley was a United States Army Veteran. He served our country in Vietnam. He was awarded the National Defense Service medal\, Vietnam Service Medal\, Vietnam Campaign Medal W/60 Device\, Expert M-16 and 2 Overseas Bars.Bill continued serving our country and our Veterans as a member of American Legion Post 34\, Cave Creek and American Legion Riders Post 34\, Cave Creek. He served as the Sergeant at Arms for both the Legion and the Riders. Bill graciously donated his time ensuring that those that served were given the Honor and Respect earned by volunteering time at the National Memorial Cemetery in Phoenix.\n\n\nPRIMARY STAGING DETAILS: 05-31-19 \nStaging Time: 10:45 am\n \nOur Lady Of Joy Catholic Church\n36811 N. Pima Rd\nCarefree\, Arizona 85377\n\n\nRide Captain: \nRide Captain: Tom “TB” Burns\ntgburns55@hotmail.com\n\nSenior Road Guard: Bob “Rifle” Jaworski\n\nFlag Captain: Gary Ogle\n\n\nSpecial Instructions: \nPlease arrive as quietly as possible-church service will be in progress\nCircle of Honor/Briefing: 11:30\nKSU: 11:45\nMilitary Honors: 12:30\,\n\n\nFlags & Water:\nFlags will be provided\nIf you have large bike flags\, please bring them.\nWater will be provided.\n\nSTAGING #2 DETAILS: 05-31-19 \nStaging Time: 12:00  \nNational Memorial Cemetery of Arizona\, Visitor’s Center\n23029 N. Cave Creek Rd.\nPhoenix\, Arizona 85024\n\n\nRide Captain: \nRide Captain: Tom “TB” Burns\ntgburns55@hotmail.com\n\nSenior Road Guard: Bob “Rifle” Jaworski\nFlag Captain: Gary Ogle\n\n\nSpecial Instructions: \nFor those not escorting\, please meet Flag Captain at Visitors Center.\nFlag Line in place for arrival of our Hero at assigned shelter.Military Honors: 12:30\n\nFlags & Water:\nFlags will be provided\nIf you have large bike flags\, please bring them.\nWater will be provided.\n\nSubmitted By: Tom Burns \nPosition: Arizona State Captain \n\nNote: You do not have to own/ride a motorcycle or be a veteran to join\, and membership is Free. The only requirement is RESPECT! To subscribe to receive mission notices\, log into the National Site and click on the Members tab at the top. Select the Subscribe to PGR Missions option.\n Print This Page
URL:https://www.patriotguard.org/mission/john-william-donley/
CATEGORIES:Honor Mission
END:VEVENT
END:VCALENDAR