BEGIN:VCALENDAR
VERSION:2.0
PRODID:-//Patriot Guard Riders - ECPv5.3.2.1//NONSGML v1.0//EN
CALSCALE:GREGORIAN
METHOD:PUBLISH
X-WR-CALNAME:Patriot Guard Riders
X-ORIGINAL-URL:https://www.patriotguard.org
X-WR-CALDESC:Events for Patriot Guard Riders
BEGIN:VTIMEZONE
TZID:America/New_York
BEGIN:DAYLIGHT
TZOFFSETFROM:-0500
TZOFFSETTO:-0400
TZNAME:EDT
DTSTART:20170312T070000
END:DAYLIGHT
BEGIN:STANDARD
TZOFFSETFROM:-0400
TZOFFSETTO:-0500
TZNAME:EST
DTSTART:20171105T060000
END:STANDARD
END:VTIMEZONE
BEGIN:VEVENT
DTSTART;TZID=America/New_York:20170411T130000
DTEND;TZID=America/New_York:20170411T150000
DTSTAMP:20210402T010526
CREATED:20170411T170000Z
LAST-MODIFIED:20191201T035530Z
UID:347648-1491915600-1491922800@www.patriotguard.org
SUMMARY:John Will Williams\, Veteran\, USA - WWII
DESCRIPTION:John Will Williams\, Veteran \nUSA – WWII \nMULTI-CITY\, Texas – 11 Apr 2017\n[HR][/HR]\nABOUT THE MISSION: \nWWII – South Philippines Liberation. \nWe have been invited by the family of John Will “Dub” Williams to join them in honoring the life and military service of their loved one. We will do this by standing the flag line at the funeral service and again at his interment at the cemetery immediately following the funeral service. \nPRIMARY STAGING DETAILS: 11 Apr 2017\n \n \nPrimary Staging Time: 1:00 P.M.\n\nEmerald Hills Funeral Home\n500 Kennedale Sublett Road\n\nKennedale\, Texas – 76060\n\n\n\n \nRide Captain:\n\nWendy Ingersoll\ncalifbabe55@yahoo.com\n(817) 991-9021\n\n \nSpecial Instructions:\n\nThe Ride Captain and support will place the flags prior to staging in order for them to be in place before the arrival of the family for the visitation prior to the funeral service. After the brief has been given we will stand the flag line to receive the family and guests of Mr. Williams. Once the service has begun we will retrieve the flags\, furl and stow them in the support vehicle. Riders who plan on attending the interment portion of the mission will proceed on to the cemetery to set the flags and prepare for the arrival of the procession from the funeral home.\n\n \nFlags & Water:\n\nFlags Will Be Provided\n\nLarge Bike Flags will NOT be needed.\n\nWater will be provided.\n\n[HR][/HR]\nSTAGING #2 DETAILS: 11 Apr\, 2017\n \n \nStaging #2 Time: 2:30 P.M.\n\nEverman Cemetery\nEast Enon Road\n\nEverman\, Texas – 76140 \n\nhttps://goo.gl/maps/ttkxwDMnFXr\n\n \nRide Captain:\n\nWendy Ingersoll\ncalifbabe55@yahoo.com\n(817) 991-9021\n\n \nSpecial Instructions:\n\nAfter the flags have been set at the interment site\, we will stand the flag line to receive the family and friends of Mr. Williams. At the conclusion of the ceremony\, and at the direction of the ride captain\, we will retrieve the flags\, furl and stow them in the support vehicle. After the post mission brief has been given all riders will be dismissed. \nThere is no number for the street address on E. Enon Rd\, please utilize the short URL or the lat/longs [32.630875\, -97.267817] to find exact location. Also\, the times will be approximate since the length of the funeral service is unknown at this time. \nPlease watch the weather as thunderstorms have been forecasted. Remember\, cages are ALWAYS welcome!\n\n \nFlags & Water:\n\nFlags Will Be Provided\n\nLarge Bike Flags will NOT be needed\n\nWater will be provided.\n\n\nSubmitted By: M. B. Ingersoll\nPosition: Ride Captain \n[HR][/HR]\nNote:\nYou do not have to own/ride a motorcycle or be a Veteran to join and membership is Free. The only requirement is RESPECT! To join\, simply go to www.PatriotGuard.org and click on Register. Membership is Free. \nTo subscribe to receive mission notices\, log into the National Site and click on the Mission Tab at the top. Select Upcoming Missions by State. Scroll to the state(s) you would like to receive notices for and click on the green check mark. Detailed instructions are also located in the FAQs on the site by clicking on the Quick Links Tab and selecting FAQs.
URL:https://www.patriotguard.org/mission/john-will-williams-veteran-usa-wwii/
END:VEVENT
END:VCALENDAR