BEGIN:VCALENDAR
VERSION:2.0
PRODID:-//Patriot Guard Riders - ECPv5.3.2.1//NONSGML v1.0//EN
CALSCALE:GREGORIAN
METHOD:PUBLISH
X-WR-CALNAME:Patriot Guard Riders
X-ORIGINAL-URL:https://www.patriotguard.org
X-WR-CALDESC:Events for Patriot Guard Riders
BEGIN:VTIMEZONE
TZID:America/New_York
BEGIN:DAYLIGHT
TZOFFSETFROM:-0500
TZOFFSETTO:-0400
TZNAME:EDT
DTSTART:20190310T070000
END:DAYLIGHT
BEGIN:STANDARD
TZOFFSETFROM:-0400
TZOFFSETTO:-0500
TZNAME:EST
DTSTART:20191103T060000
END:STANDARD
END:VTIMEZONE
BEGIN:VEVENT
DTSTART;VALUE=DATE:20190914
DTEND;VALUE=DATE:20190915
DTSTAMP:20210401T122110
CREATED:20190913T225939Z
LAST-MODIFIED:20190913T225939Z
UID:173910-1568419200-1568505599@www.patriotguard.org
SUMMARY:John White JR.
DESCRIPTION:Honor Mission\nJohn White JR.\, Veteran\nUSA – Vietnam\nMonroe\, Louisiana – 09-14-19\n\n\n\nABOUT THE MISSION: \nStaff Sgt John White served his County honorably in the U.S. ARMY and was Retired on Disability. He received the Bronze Star Medal / Army Commendation Medal / Combat Infantryman Badge / Parachute Badge / Vietnam Campaign Medal with Device 60 / Vietnam Service Medal / Four Overseas Bars / National Defense Service Medal / Air Medal / Good Conduct Medal. He was in Vietnam Aug 68 to July 69 / Sep 69 to Sep 70 and retirement papers were prepared at Brooke General Hospital at Fort Sam Houston\, Texas.\n\n\nPRIMARY STAGING DETAILS: 09-14-19 \nStaging Time: 11:00 AM\n \nLiberty Christian Center\n3220 Highway 165\nMonroe\, Louisiana 71202\n\n\nRide Captain: \nJAMES ( MOUSE ) SANDERS\, 245-3989\n\n\nSpecial Instructions: \nSet up flags at 10:00 AM.\nWe will stand a Flag Line for 11 AM. Service and Present at the Church.\nNo escort. Hope you can be there to honor this Hero.\n\n\nFlags & Water:\nFlags will be provided\nLarge Bike Flags will NOT be needed.\nWater will be provided.\n\n\n\nSubmitted By: James Sanders \nPosition: Louisiana Ride Captain \n\nNote: You do not have to own/ride a motorcycle or be a veteran to join\, and membership is Free. The only requirement is RESPECT! To subscribe to receive mission notices\, log into the National Site and click on the Members tab at the top. Select the Subscribe to PGR Missions option.\n Print This Page
URL:https://www.patriotguard.org/mission/john-white-jr/
CATEGORIES:Honor Mission
END:VEVENT
END:VCALENDAR