BEGIN:VCALENDAR
VERSION:2.0
PRODID:-//Patriot Guard Riders - ECPv5.3.2.1//NONSGML v1.0//EN
CALSCALE:GREGORIAN
METHOD:PUBLISH
X-WR-CALNAME:Patriot Guard Riders
X-ORIGINAL-URL:https://www.patriotguard.org
X-WR-CALDESC:Events for Patriot Guard Riders
BEGIN:VTIMEZONE
TZID:America/New_York
BEGIN:DAYLIGHT
TZOFFSETFROM:-0500
TZOFFSETTO:-0400
TZNAME:EDT
DTSTART:20190310T070000
END:DAYLIGHT
BEGIN:STANDARD
TZOFFSETFROM:-0400
TZOFFSETTO:-0500
TZNAME:EST
DTSTART:20191103T060000
END:STANDARD
END:VTIMEZONE
BEGIN:VEVENT
DTSTART;VALUE=DATE:20190814
DTEND;VALUE=DATE:20190815
DTSTAMP:20210402T152739
CREATED:20190813T213734Z
LAST-MODIFIED:20190813T213734Z
UID:170737-1565740800-1565827199@www.patriotguard.org
SUMMARY:John Wesley Slovacek
DESCRIPTION:Honor Mission\nJohn Wesley Slovacek\, Veteran\nUSN\nEnnis\, Texas – 08-14-19\n\n\n\n\nABOUT THE MISSION: \nJohn Wesley Slovacek served in the United States Navy in the Pacific Theater.\n\n\nPRIMARY STAGING DETAILS: 08-14-19 \nStaging Time: 9:00 am\n \nSt. John Catholic Church\n401 East Lampasas Street\nEnnis\, Texas 75119\n\n\nRide Captain: \nBrian Liberty\nPostmasterLiberty@gmail.com\n(979) 702-9097\n\n\nSpecial Instructions: \n\nStaging Time 9:00 am\nBriefing Time 9:15 am\nIn Position/KSU Time 9:30 am\nStarting Time 10:00 am\nThe PGR will stage at St John Catholic Church in Ennis\, TX\, flags will be set\, and Ride Captain will conduct a briefing. The PGR will then stand the Flag Line as family and friends of YN3 John Slovacek arrive. Once the service starts the Ride Captain will make the decision when to remove the flags and take them to the support vehicle. The riders will be debriefed and dismissed from Part 1 of this mission.\n\n\nFlags & Water:\nFlags will be provided\nLarge Bike Flags will NOT be needed.\nWater will be provided.\n\nSTAGING #2 DETAILS: 08-14-19 \nStaging Time: 10:45 am\n \nSt. Joseph Cemetery\nOff BUS 287\, South\nEnnis\, Texas 75119\n\n\nRide Captain: \nBrian Liberty\nPostmasterLiberty@gmail.com\n(979) 702-9097\n\n\nSpecial Instructions: \nStaging Time 10:45 am\nBriefing Time 10:50 am\nIn Position/KSU Time 10:55 am\nStarting Time 11:00 am (Time Estimated)\nCemetery entrance is on the left .The PGR will move to the interment staging point at St. Joseph Cemetery\, flags will be set\, riders will be given the mission brief and prepare to receive the family and friends of YN3 Slovacek. Once the service ends the Ride Captain will make the decision when to remove the flags and take them to the support vehicle. The riders will be debriefed and dismissed from this mission.The PGR has been asked to fold the flag at the cemetery\n\n\nFlags & Water:\nFlags will be provided\nLarge Bike Flags will NOT be needed.\nWater will be provided.\n\n\nSubmitted By: Dan Mathys \nPosition: Texas Ride Captain \n\nNote: You do not have to own/ride a motorcycle or be a veteran to join\, and membership is Free. The only requirement is RESPECT! To subscribe to receive mission notices\, log into the National Site and click on the Members tab at the top. Select the Subscribe to PGR Missions option.\n Print This Page
URL:https://www.patriotguard.org/mission/john-wesley-slovacek/
CATEGORIES:Honor Mission
END:VEVENT
END:VCALENDAR