BEGIN:VCALENDAR
VERSION:2.0
PRODID:-//Patriot Guard Riders - ECPv5.3.2.1//NONSGML v1.0//EN
CALSCALE:GREGORIAN
METHOD:PUBLISH
X-WR-CALNAME:Patriot Guard Riders
X-ORIGINAL-URL:https://www.patriotguard.org
X-WR-CALDESC:Events for Patriot Guard Riders
BEGIN:VTIMEZONE
TZID:America/New_York
BEGIN:DAYLIGHT
TZOFFSETFROM:-0500
TZOFFSETTO:-0400
TZNAME:EDT
DTSTART:20190310T070000
END:DAYLIGHT
BEGIN:STANDARD
TZOFFSETFROM:-0400
TZOFFSETTO:-0500
TZNAME:EST
DTSTART:20191103T060000
END:STANDARD
END:VTIMEZONE
BEGIN:VEVENT
DTSTART;VALUE=DATE:20190807
DTEND;VALUE=DATE:20190808
DTSTAMP:20210402T150806
CREATED:20190805T162356Z
LAST-MODIFIED:20190805T162356Z
UID:169801-1565136000-1565222399@www.patriotguard.org
SUMMARY:John Wesley Blazer
DESCRIPTION:Honor Mission\nJohn Wesley Blazer\, Veteran\nUSA\nBolivar\, Missouri – 08-07-19\n\n\n\n\nABOUT THE MISSION: \nThe family and loved ones of SP4 Wesley Blazer\, Jr has honored the Patriot Guard Riders with a request for an escort from Pitts Funeral Home\, Bolivar\, Mo to his final resting place at the Missouri Veteran’s Cemetery (MVC) in Springfield\, MO on Wed. 7 Aug 19 and there to stand a flag line while full military honors are rendered.\nHero Blazer proudly and honorably served in the US Army achieving the rank of SP4 (E4) serving 5 years as a Unit Clerk while stationed in Germany during the Vietnam war.\nAfter his service\, our hero became a parts salesman for a local RV company for over 30 years before retiring in 2018. He earned the Good Conduct Medal (2nd Award)\, and the National Defense Service Medal.\n\n\nPRIMARY STAGING DETAILS: 08-07-19 \nStaging Time: 9:15 a.m.\n \nPitts Chapel Funeral Home\n316 E. Broadway\nBolivar\, Missouri\n\n\nRide Captain: \nKent McGregor\, (850) 544-6616\, Mcgregor.kent@gmail.com\n\n\nSpecial Instructions: \nStage: 9:15 am\nBrief: 9:30 am\nEscort: 10:00 am\, from Pitts Chapel to MVC\, 5201 E. Southwood\, Springfield\, MO. ( a distance of approx. 42 mi/ 50 min)\nCommittal service: 11:00 am\nWeather forecast:  80° and 10% chance of precipitation.\n\n\nFlags & Water:\nFlags will be provided\nIf you have large bike flags\, please bring them.\nWater WILL NOT be provided\, please bring your own.\n\n\nSubmitted By: Kent McGregor \nPosition: Missouri Ride Captain \n\nNote: You do not have to own/ride a motorcycle or be a veteran to join\, and membership is Free. The only requirement is RESPECT! To subscribe to receive mission notices\, log into the National Site and click on the Members tab at the top. Select the Subscribe to PGR Missions option.\n Print This Page
URL:https://www.patriotguard.org/mission/john-wesley-blazer/
CATEGORIES:Honor Mission
END:VEVENT
END:VCALENDAR