BEGIN:VCALENDAR
VERSION:2.0
PRODID:-//Patriot Guard Riders - ECPv5.3.2.1//NONSGML v1.0//EN
CALSCALE:GREGORIAN
METHOD:PUBLISH
X-WR-CALNAME:Patriot Guard Riders
X-ORIGINAL-URL:https://www.patriotguard.org
X-WR-CALDESC:Events for Patriot Guard Riders
BEGIN:VTIMEZONE
TZID:America/New_York
BEGIN:DAYLIGHT
TZOFFSETFROM:-0500
TZOFFSETTO:-0400
TZNAME:EDT
DTSTART:20190310T070000
END:DAYLIGHT
BEGIN:STANDARD
TZOFFSETFROM:-0400
TZOFFSETTO:-0500
TZNAME:EST
DTSTART:20191103T060000
END:STANDARD
END:VTIMEZONE
BEGIN:VEVENT
DTSTART;VALUE=DATE:20190618
DTEND;VALUE=DATE:20190619
DTSTAMP:20210405T021434
CREATED:20190617T020346Z
LAST-MODIFIED:20190617T020346Z
UID:164908-1560816000-1560902399@www.patriotguard.org
SUMMARY:John Wayne Wallace
DESCRIPTION:Honor Mission\nJohn Wayne Wallace\, Veteran\nUSA\, USAR – Vietnam\nBastrop\, Louisiana – 06-18-19\n\n\n\nABOUT THE MISSION: \nJohn Wayne Wallace served his country with pride and honor during the Vietnam War. Serving his tours in Europe while stationed in Germany he was a heavy equipment operator and truck driver. Returning home with his family he started a long career with the paper mill-construction industry. Raising two wonderful sons\, several grandchildren and great- grandchildren he leaves a legacy to be carried on. Wayne loved hunting and fishing but was just as happy watching baseball and working in his garden. His family requested the Patriot Guard to honor their father’s service and we are proud to do so.\n\n\nPRIMARY STAGING DETAILS: 06-18-19 \nStaging Time: 12:30 PM\n \nGolden Funeral Home\n2016 East Madison Ave\nBastrop\, Louisiana 71220\n\n\nRide Captain: \nBuck “Ironrider” Harper\nBastrop\, La.\n318-282-1899\n\n\nSpecial Instructions: \nFlags will be placed.\nWe will stand respectfully before the service at 2pm.\nDuring service we will have a brief rider meeting for a short 5 mile escort to Carter Cemetery on the Collinston Road.\nThere we will stand for his interment ceremony.\n\n\nFlags & Water:\nFlags will be provided\nIf you have large bike flags\, please bring them.\nWater WILL NOT be provided\, please bring your own.\n\n\n\nSubmitted By: Buck Harper \nPosition: Louisiana Ride Captain \n\nNote: You do not have to own/ride a motorcycle or be a veteran to join\, and membership is Free. The only requirement is RESPECT! To subscribe to receive mission notices\, log into the National Site and click on the Members tab at the top. Select the Subscribe to PGR Missions option.\n Print This Page
URL:https://www.patriotguard.org/mission/john-wayne-wallace/
CATEGORIES:Honor Mission
END:VEVENT
END:VCALENDAR