BEGIN:VCALENDAR
VERSION:2.0
PRODID:-//Patriot Guard Riders - ECPv5.3.2.1//NONSGML v1.0//EN
CALSCALE:GREGORIAN
METHOD:PUBLISH
X-WR-CALNAME:Patriot Guard Riders
X-ORIGINAL-URL:https://www.patriotguard.org
X-WR-CALDESC:Events for Patriot Guard Riders
BEGIN:VTIMEZONE
TZID:America/New_York
BEGIN:DAYLIGHT
TZOFFSETFROM:-0500
TZOFFSETTO:-0400
TZNAME:EDT
DTSTART:20190310T070000
END:DAYLIGHT
BEGIN:STANDARD
TZOFFSETFROM:-0400
TZOFFSETTO:-0500
TZNAME:EST
DTSTART:20191103T060000
END:STANDARD
END:VTIMEZONE
BEGIN:VEVENT
DTSTART;VALUE=DATE:20190606
DTEND;VALUE=DATE:20190607
DTSTAMP:20210405T044720
CREATED:20190602T235401Z
LAST-MODIFIED:20190602T235401Z
UID:163260-1559779200-1559865599@www.patriotguard.org
SUMMARY:John Washington Ripley
DESCRIPTION:Honor Mission\nJohn Washington Ripley\, Veteran\nUSN – WWII\nSan Antonio\, Texas – 06-06-19\n\n\n\nABOUT THE MISSION: \nThe family of Mr. John Washington Ripley\, a US Navy\, WWII Veteran\, requests the presence and participation of the Patriot Guard Riders at the LEO supported procession and graveside rendering of military honors of their loved one.\n\n\nPRIMARY STAGING DETAILS: 06-06-19 \nStaging Time: 09:00 AM\n \nMission Park Funeral Chapels North\n3401 Cherry Ridge Dr\nSan Antonio\, Texas 78230\nMap\n\n\nRide Captain: \nPete “SeaDog” Johnson\npfjohn127@gmail.com\n\nFlags: Pat Jopling\n\n\nSpecial Instructions: \nStaging: 09:00 AM\nBriefing: 09:15 AM\nKSU: 09:30 AM\nInterment: 10:00 AM\nFort Sam Houston National Cemetery\, 1520 Harry Wurzbach Rd\, San Antonio\, TX 78209.\nMap\n\n\nFlags & Water:\nFlags will be provided\nIf you have large bike flags\, please bring them.\nWater will be provided.\n\n\n\nSubmitted By: Lisa Menard \nPosition: Texas Ride Captain \n\nNote: You do not have to own/ride a motorcycle or be a veteran to join\, and membership is Free. The only requirement is RESPECT! To subscribe to receive mission notices\, log into the National Site and click on the Members tab at the top. Select the Subscribe to PGR Missions option.\n Print This Page
URL:https://www.patriotguard.org/mission/john-washington-ripley/
CATEGORIES:Honor Mission
END:VEVENT
END:VCALENDAR