BEGIN:VCALENDAR
VERSION:2.0
PRODID:-//Patriot Guard Riders - ECPv5.6.0//NONSGML v1.0//EN
CALSCALE:GREGORIAN
METHOD:PUBLISH
X-WR-CALNAME:Patriot Guard Riders
X-ORIGINAL-URL:https://www.patriotguard.org
X-WR-CALDESC:Events for Patriot Guard Riders
BEGIN:VTIMEZONE
TZID:America/New_York
BEGIN:DAYLIGHT
TZOFFSETFROM:-0500
TZOFFSETTO:-0400
TZNAME:EDT
DTSTART:20160313T070000
END:DAYLIGHT
BEGIN:STANDARD
TZOFFSETFROM:-0400
TZOFFSETTO:-0500
TZNAME:EST
DTSTART:20161106T060000
END:STANDARD
END:VTIMEZONE
BEGIN:VEVENT
DTSTART;TZID=America/New_York:20160811T090000
DTEND;TZID=America/New_York:20160811T110000
DTSTAMP:20210512T042808
CREATED:20160811T130000Z
LAST-MODIFIED:20191201T143719Z
UID:410027-1470906000-1470913200@www.patriotguard.org
SUMMARY:John W. Pounders\, USA
DESCRIPTION:The  family of U.S. Army Vietnam Veteran SP5 John Wesley Pounders has asked  the Patriot Guard Riders to escort their Hero from McClendon-Winters  Funera Home\, 205 W Main St.\, Beggs\, OK to the Beggs Cemetery and to stand a flag  line at his graveside service scheduled for 1000 hours Thursday\, 11  August 2016.  The U.S. Army Honor Detail and the VFW will render Military  Honors. \nDate:  Thursday\, 11 August 2016 at 1000 hours \nStaging:  0900 hours\nMcClendon-Winters Funeral Home\n205 W Main\nBeggs\, OK \nMandatory Briefing:  0915 hours \nYou MUST attend the briefing to ride in the escort. \nKSU:  0945 hours \nFlag Line:  1000 hours \nWeather:  Temperature 100 & sunny during the mission. Remember to hydrate!!! \nRCIC:\nMorris “Pike Pass” Noftsger\nmorrisnoftsger@yahoo.com\n918-261-1197
URL:https://www.patriotguard.org/mission/john-w-pounders-usa/
CATEGORIES:Archive
END:VEVENT
END:VCALENDAR