BEGIN:VCALENDAR
VERSION:2.0
PRODID:-//Patriot Guard Riders - ECPv5.3.2.1//NONSGML v1.0//EN
CALSCALE:GREGORIAN
METHOD:PUBLISH
X-WR-CALNAME:Patriot Guard Riders
X-ORIGINAL-URL:https://www.patriotguard.org
X-WR-CALDESC:Events for Patriot Guard Riders
BEGIN:VTIMEZONE
TZID:America/New_York
BEGIN:DAYLIGHT
TZOFFSETFROM:-0500
TZOFFSETTO:-0400
TZNAME:EDT
DTSTART:20190310T070000
END:DAYLIGHT
BEGIN:STANDARD
TZOFFSETFROM:-0400
TZOFFSETTO:-0500
TZNAME:EST
DTSTART:20191103T060000
END:STANDARD
END:VTIMEZONE
BEGIN:VEVENT
DTSTART;VALUE=DATE:20190725
DTEND;VALUE=DATE:20190726
DTSTAMP:20210403T192504
CREATED:20190723T125602Z
LAST-MODIFIED:20190723T125602Z
UID:168531-1564012800-1564099199@www.patriotguard.org
SUMMARY:John W Cherry
DESCRIPTION:Honor Mission\nJohn W Cherry\, Veteran\nUSA –\nParis\, Texas – 07-24-19\n\n\n\nABOUT THE MISSION: \nMr. Cherry was born in Westbrook\, Texas to Jim H. and Letres Rose Cherry. He served in the United States Army.\nObituary\n\n\nPRIMARY STAGING DETAILS: 07-24-19 \nStaging Time: 08:30 AM\n \nFry-Gibbs Funeral Home Chapel\n730 Clarksville Street\nParis\, Texas 75460\nMap\n\n\nRide Captain: \nMike Moses\n940-368-3132\nmmoses@wildblue.net\n\n\nSpecial Instructions: \nStage: 8:30 a.m.\nRiders meeting: 8:45 a.m.\nDirections to the cemetery will be given by the Ride Captain.\nCemetery is approximately 25 miles from funeral home.\nBIG FLAG BIKES APPRECIATED.\nPlease remain flexible as to the requirements of the mission. (SEMPER GUMBY)\n\n\nFlags & Water:\nFlags will be provided\nIf you have large bike flags\, please bring them.\nWater will be provided.\n\n\n\nSubmitted By: Michael Eubank \nPosition: Texas Deputy State Captain \n\nNote: You do not have to own/ride a motorcycle or be a veteran to join\, and membership is Free. The only requirement is RESPECT! To subscribe to receive mission notices\, log into the National Site and click on the Members tab at the top. Select the Subscribe to PGR Missions option.\n Print This Page
URL:https://www.patriotguard.org/mission/john-w-cherry/
CATEGORIES:Honor Mission
END:VEVENT
END:VCALENDAR