BEGIN:VCALENDAR
VERSION:2.0
PRODID:-//Patriot Guard Riders - ECPv5.6.0//NONSGML v1.0//EN
CALSCALE:GREGORIAN
METHOD:PUBLISH
X-WR-CALNAME:Patriot Guard Riders
X-ORIGINAL-URL:https://www.patriotguard.org
X-WR-CALDESC:Events for Patriot Guard Riders
BEGIN:VTIMEZONE
TZID:America/New_York
BEGIN:DAYLIGHT
TZOFFSETFROM:-0500
TZOFFSETTO:-0400
TZNAME:EDT
DTSTART:20160313T070000
END:DAYLIGHT
BEGIN:STANDARD
TZOFFSETFROM:-0400
TZOFFSETTO:-0500
TZNAME:EST
DTSTART:20161106T060000
END:STANDARD
END:VTIMEZONE
BEGIN:VEVENT
DTSTART;TZID=America/New_York:20160701T090000
DTEND;TZID=America/New_York:20160701T110000
DTSTAMP:20210513T001704
CREATED:20160701T130000Z
LAST-MODIFIED:20191201T144645Z
UID:410892-1467363600-1467370800@www.patriotguard.org
SUMMARY:John Tenzycki
DESCRIPTION:Please note that due to ongoing OPSEC  concerns\, mission details are not shown in this posting. All specific  details and updates have been sent to members directly via their e-mail  address on file.\n\n\n \n[FONT=arial\, helvetica\, sans-serif]Members:\nWe have been requested by Hess- Miller funeral home of Middle Village to stand and honor John Tenzycki\, US Navy\, 1945-1948. \nWhen/Where:\nFriday 07/01/2016\nCalverton National Cemetery\nCalverton\, NY 11933 \nThe Hess- Miller Funeral Home will arrive at Calverton National Cemetery Friday 7/1/16 with this member of the Greatest Generation.\nThis veteran has no known family so we get the honor to be that. Let us turn out\nfor one that deserves a tribute. \nRCs Gene & Sue at Calverton \nContact:\nPete Jepson\nSRC\n[URL=”tel:631-922-6330″]631-922-6330[/URL]\ndoublejli@optonline.net\n[/FONT]
URL:https://www.patriotguard.org/mission/john-tenzycki/
CATEGORIES:Archive
END:VEVENT
END:VCALENDAR