BEGIN:VCALENDAR
VERSION:2.0
PRODID:-//Patriot Guard Riders - ECPv5.6.0//NONSGML v1.0//EN
CALSCALE:GREGORIAN
METHOD:PUBLISH
X-WR-CALNAME:Patriot Guard Riders
X-ORIGINAL-URL:https://www.patriotguard.org
X-WR-CALDESC:Events for Patriot Guard Riders
BEGIN:VTIMEZONE
TZID:America/New_York
BEGIN:DAYLIGHT
TZOFFSETFROM:-0500
TZOFFSETTO:-0400
TZNAME:EDT
DTSTART:20160313T070000
END:DAYLIGHT
BEGIN:STANDARD
TZOFFSETFROM:-0400
TZOFFSETTO:-0500
TZNAME:EST
DTSTART:20161106T060000
END:STANDARD
END:VTIMEZONE
BEGIN:VEVENT
DTSTART;TZID=America/New_York:20160806T090000
DTEND;TZID=America/New_York:20160806T110000
DTSTAMP:20210512T035950
CREATED:20160806T130000Z
LAST-MODIFIED:20191201T143758Z
UID:410090-1470474000-1470481200@www.patriotguard.org
SUMMARY:John Taylor\, USA
DESCRIPTION:John Taylor\nUS Army Vietnam Veteran\nWest Valley City\, UT\n06 AUG 16 \n\n\n\nThe Patriot Guard Riders have been requested to stand a flag line for John Taylor. \nJohn Taylor served in the U.S. Army during the Vietnam War. John Taylor served in the 25th Infantry from ’63-’65. He also boxed for the US Army. \nThis will be a Veterans format. \nThe service will be at 12:00 PM on Saturday\, August 06\, 2016.\nLDS Church\n3150 W Whitehall Dr\nWest Valley City\, UT \nWe will stand a flag line at the church and then escort John Taylor to his final resting place in the Pleasant Green Cemetery on 9000 W 3500 S in Magna\, where we will stand another flag line. \nThe ride captain for this mission will be Dave Richardson and he can be reached at: 801-641-6009. \nStaging: 12:00 PM at\nChevron Gas Station\n2716 W 4700 S\nWest Valley City. \nKSU: 12:30 PM \nWeather: Mostly sunny with a high of 92. Please dress accordingly and keep yourself hydrated. \nThank you\, John Taylor\, for your service. \nAnyone attending in a cage and willing to transport flags please contact Dave Richardson at: 801-641-6009.
URL:https://www.patriotguard.org/mission/john-taylor-usa/
CATEGORIES:Archive
END:VEVENT
END:VCALENDAR