BEGIN:VCALENDAR
VERSION:2.0
PRODID:-//Patriot Guard Riders - ECPv5.3.2.1//NONSGML v1.0//EN
CALSCALE:GREGORIAN
METHOD:PUBLISH
X-WR-CALNAME:Patriot Guard Riders
X-ORIGINAL-URL:https://www.patriotguard.org
X-WR-CALDESC:Events for Patriot Guard Riders
BEGIN:VTIMEZONE
TZID:America/New_York
BEGIN:DAYLIGHT
TZOFFSETFROM:-0500
TZOFFSETTO:-0400
TZNAME:EDT
DTSTART:20190310T070000
END:DAYLIGHT
BEGIN:STANDARD
TZOFFSETFROM:-0400
TZOFFSETTO:-0500
TZNAME:EST
DTSTART:20191103T060000
END:STANDARD
END:VTIMEZONE
BEGIN:VEVENT
DTSTART;VALUE=DATE:20190709
DTEND;VALUE=DATE:20190710
DTSTAMP:20210404T031527
CREATED:20190708T004747Z
LAST-MODIFIED:20190708T004747Z
UID:166743-1562630400-1562716799@www.patriotguard.org
SUMMARY:John Snyder
DESCRIPTION:Honor Mission\nJohn Snyder\, Retired\nUSA – Korea\nEl Paso\, Texas – 07-09-19\n\n\n ABOUT THE MISSION:\n\nThe family of 1st Sgt John Snyder has requested the Patriot Guard Riders to render honors for his interment.\n\n\nPRIMARY STAGING DETAILS: 07-09-19 \nStaging Time: 11:00 am\n \nFort Bliss National Cemetery\n5200 Fred Wilson Ave.\nEl Paso\, Texas 79906\n\n\nRide Captain: \nVaughn Nelson\n(915) 667-9992\nfwtpgrmissions@gmail.com\n\n\nSpecial Instructions: \nBriefing: 11:15 am\nFlag Line: 11:30 am\nInterment: 11:30 am East Shelter\n\n\nFlags & Water:\nFlags will be provided\nLarge Bike Flags will NOT be needed.\nWater will be provided.\n\n\n\nSubmitted By: Vaughn Nelson \nPosition: Texas Ride Captain \n\nNote: You do not have to own/ride a motorcycle or be a veteran to join\, and membership is Free. The only requirement is RESPECT! To subscribe to receive mission notices\, log into the National Site and click on the Members tab at the top. Select the Subscribe to PGR Missions option.\n Print This Page
URL:https://www.patriotguard.org/mission/john-snyder/
CATEGORIES:Honor Mission
END:VEVENT
END:VCALENDAR