BEGIN:VCALENDAR
VERSION:2.0
PRODID:-//Patriot Guard Riders - ECPv5.3.2.1//NONSGML v1.0//EN
CALSCALE:GREGORIAN
METHOD:PUBLISH
X-WR-CALNAME:Patriot Guard Riders
X-ORIGINAL-URL:https://www.patriotguard.org
X-WR-CALDESC:Events for Patriot Guard Riders
BEGIN:VTIMEZONE
TZID:America/New_York
BEGIN:DAYLIGHT
TZOFFSETFROM:-0500
TZOFFSETTO:-0400
TZNAME:EDT
DTSTART:20170312T070000
END:DAYLIGHT
BEGIN:STANDARD
TZOFFSETFROM:-0400
TZOFFSETTO:-0500
TZNAME:EST
DTSTART:20171105T060000
END:STANDARD
END:VTIMEZONE
BEGIN:VEVENT
DTSTART;TZID=America/New_York:20170924T110000
DTEND;TZID=America/New_York:20170924T130000
DTSTAMP:20210404T124237
CREATED:20170924T150000Z
LAST-MODIFIED:20191201T033915Z
UID:338783-1506250800-1506258000@www.patriotguard.org
SUMMARY:John Seelie\, Veteran\, USA - WW II
DESCRIPTION:CPL John Seelie\, Veteran\nUSA  – WW II\nMULTI-CITY\, Ohio – 24 Sep 2017\n\n\n[HR][/HR]\nABOUT THE MISSION:\n\n \n\nObituary:  http://tinyurl.com/yd5rn3mz\n\n\nPRIMARY STAGING DETAILS:  24 Sep 2017\nPrimary Staging Time: 11:00 A.M. \n\nStaging Location for Honor Escort/ Graveside Service:\nBusch Funeral and Crematory Services &\nCatavolos Funeral Home Fairview Park\n21369 Center Ridge Road\nFairview Park\, Ohio – 44116\n\n\nRide Captain: \n\n Ralph Bago \nrtblkwd@aol.com\n\n\nSpecial Instructions: \n\nPlease commit to making this mission. Ralph needs help.\nDress for the weather and stand with your knees at a slight bend.\n\n\nFlags & Water: \n\nFlags Will NOT Be Provided\, Please Bring Your Own.\nIf you have large bike flags\, please bring them.\nWater WILL NOT be provided\, please bring your own.\n\n\n \nSubmitted By: Robert Woods\nPosition: State Captain\n[HR][/HR]Note:\n\nYou do not have to own/ride a motorcycle or be a Veteran to join and membership is Free. The only requirement is RESPECT! To join\, simply go to www.PatriotGuard.org and click on Register. Membership is Free. \nTo subscribe to receive mission notices\, log into the National Site and click on the Mission Tab at the top. Select the Subscribe to Missions option.
URL:https://www.patriotguard.org/mission/john-seelie-veteran-usa-ww-ii/
LOCATION:Jane E. Carney
END:VEVENT
END:VCALENDAR