BEGIN:VCALENDAR
VERSION:2.0
PRODID:-//Patriot Guard Riders - ECPv5.3.2.1//NONSGML v1.0//EN
CALSCALE:GREGORIAN
METHOD:PUBLISH
X-WR-CALNAME:Patriot Guard Riders
X-ORIGINAL-URL:https://www.patriotguard.org
X-WR-CALDESC:Events for Patriot Guard Riders
BEGIN:VTIMEZONE
TZID:America/New_York
BEGIN:DAYLIGHT
TZOFFSETFROM:-0500
TZOFFSETTO:-0400
TZNAME:EDT
DTSTART:20190310T070000
END:DAYLIGHT
BEGIN:STANDARD
TZOFFSETFROM:-0400
TZOFFSETTO:-0500
TZNAME:EST
DTSTART:20191103T060000
END:STANDARD
END:VTIMEZONE
BEGIN:VEVENT
DTSTART;VALUE=DATE:20190722
DTEND;VALUE=DATE:20190723
DTSTAMP:20210404T031137
CREATED:20190719T232513Z
LAST-MODIFIED:20190719T232513Z
UID:168096-1563753600-1563839999@www.patriotguard.org
SUMMARY:John Savage
DESCRIPTION:Honor Mission\nJohn Savage\, Veteran\nUSA\nKansas City\, Missouri – 07-22-19\n\n\n\nABOUT THE MISSION: \nThe family of Sgt John Savage has requested the PGR Stand in honor and respect for their Hero and it will be our honor to be there for them. He was 96 when he passed.\n\n\nPRIMARY STAGING DETAILS: 07-22-19 \nStaging Time: 0800 hrs\n \nMcGilley & Sheil Funeral Home\n11924 E 47th St\nKansas City\, Missouri\n\n\nRide Captain: \nJon David\njon_bearrrr@yahoo.com\n225-266-9979\n\n\nSpecial Instructions: \nWe will stage at 0800 hrs to set flags and meet at 0815 hrs in preparation for standing a flag line from 0830 hrs to 1000 hrs at which time the service will start.\nWe will escort this Hero and his family to an 1330 hrs appointment at the Leavenworth National Cemetery.\n\n\nFlags & Water:\nFlags will be provided\nIf you have large bike flags\, please bring them.\nWater WILL NOT be provided\, please bring your own.\n\n\n\nSubmitted By: Jon David \nPosition: \n\nNote: You do not have to own/ride a motorcycle or be a veteran to join\, and membership is Free. The only requirement is RESPECT! To subscribe to receive mission notices\, log into the National Site and click on the Members tab at the top. Select the Subscribe to PGR Missions option.\n Print This Page
URL:https://www.patriotguard.org/mission/john-savage/
CATEGORIES:Honor Mission
END:VEVENT
END:VCALENDAR