BEGIN:VCALENDAR
VERSION:2.0
PRODID:-//Patriot Guard Riders - ECPv5.3.2.1//NONSGML v1.0//EN
CALSCALE:GREGORIAN
METHOD:PUBLISH
X-WR-CALNAME:Patriot Guard Riders
X-ORIGINAL-URL:https://www.patriotguard.org
X-WR-CALDESC:Events for Patriot Guard Riders
BEGIN:VTIMEZONE
TZID:America/New_York
BEGIN:DAYLIGHT
TZOFFSETFROM:-0500
TZOFFSETTO:-0400
TZNAME:EDT
DTSTART:20190310T070000
END:DAYLIGHT
BEGIN:STANDARD
TZOFFSETFROM:-0400
TZOFFSETTO:-0500
TZNAME:EST
DTSTART:20191103T060000
END:STANDARD
END:VTIMEZONE
BEGIN:VEVENT
DTSTART;VALUE=DATE:20190815
DTEND;VALUE=DATE:20190816
DTSTAMP:20210402T121000
CREATED:20190813T093721Z
LAST-MODIFIED:20190813T093721Z
UID:170701-1565827200-1565913599@www.patriotguard.org
SUMMARY:John Price Bishop
DESCRIPTION:Honor Mission\nJohn Price Bishop\, Veteran\nUSAF – Korea\nSiloam Springs\, Arkansas – 08-15-19\n\n\n \n\nABOUT THE MISSION: \nJohn Price Bishop\, 87 year old resident of Siloam Springs\, Arkansas\, died on August 11\, 2019 at Washington Regional Medical Center in Fayetteville\, Arkansas.\nJohn was born on April 12\, 1932 in Mariaville\, Nebraska\, to Donald Archibald Bishop and Edna Pearl Brown Bishop.\nHe joined the United States Air Force out of high school and served during the Korean War.\nJohn met Alice Foster while both were serving in the Air Force and they were married on September 1\, 1951 in Pocahontas\, Arkansas. They moved to Siloam Springs in 1958 and he worked as a farmer\, raising cattle and chickens\, cutting hay and operating a dairy.\n\n\nPRIMARY STAGING DETAILS: 08-15-19 \nStaging Time: 1:00 pm\n \nWasson’s Funeral Home\n441 Highway 412 West\nSiloam Springs\, Arkansas 72761\n\n\nRide Captain: \nGreg “Weebles” Weeks\nweeblespgr@att.net\n479-466-8586\n\n\nSpecial Instructions: \nStaging at 1:00 pm\nBriefing at 1:15 pm\nFlag Line 1:30 pm – 2:00 pm\nAssisted by: Cliff “Ol Man” Olson\,colson67@hotmail.com\, 479-301-4361\n\n\nFlags & Water:\nFlags will be provided\nIf you have large bike flags\, please bring them.\nWater will be provided.\n\nSTAGING #2 DETAILS: 08-15-19 \nStaging Time: 3:00 pm  \nWassons Funeral Home\n441 Highway 412 West\nSiloam Springs\, Arkansas 72761\n\n\nRide Captain: \nGreg “Weebles” Weeks\nweeblespgr@att.net\n479-466-8586Cliff “Ol Man” Olsoncolson67@hotmail.com479-301-4361\n\n\nSpecial Instructions: \nEscort to Norwood Cemetery Siloam Springs\, AR\, It’s on 16/244.\nUpon arrived at cemetery\, we will form a flag line until the end of the service.\nMust attend briefing to ride in escort\nAssisted by: Cliff “Ol Man” Olson\, colson67@hotmail.com\, 479-301-4361\n\n\nFlags & Water:\nFlags will be provided\nIf you have large bike flags\, please bring them.\nWater will be provided.\n\n\n\nSubmitted By: Gregory Weeks \nPosition: \n\nNote: You do not have to own/ride a motorcycle or be a veteran to join\, and membership is Free. The only requirement is RESPECT! To subscribe to receive mission notices\, log into the National Site and click on the Members tab at the top. Select the Subscribe to PGR Missions option.\n Print This Page
URL:https://www.patriotguard.org/mission/john-price-bishop/
CATEGORIES:Honor Mission
END:VEVENT
END:VCALENDAR