BEGIN:VCALENDAR
VERSION:2.0
PRODID:-//Patriot Guard Riders - ECPv5.3.2.1//NONSGML v1.0//EN
CALSCALE:GREGORIAN
METHOD:PUBLISH
X-WR-CALNAME:Patriot Guard Riders
X-ORIGINAL-URL:https://www.patriotguard.org
X-WR-CALDESC:Events for Patriot Guard Riders
BEGIN:VTIMEZONE
TZID:America/New_York
BEGIN:DAYLIGHT
TZOFFSETFROM:-0500
TZOFFSETTO:-0400
TZNAME:EDT
DTSTART:20170312T070000
END:DAYLIGHT
BEGIN:STANDARD
TZOFFSETFROM:-0400
TZOFFSETTO:-0500
TZNAME:EST
DTSTART:20171105T060000
END:STANDARD
END:VTIMEZONE
BEGIN:VEVENT
DTSTART;TZID=America/New_York:20170812T085000
DTEND;TZID=America/New_York:20170812T105000
DTSTAMP:20210405T235009
CREATED:20170812T125000Z
LAST-MODIFIED:20191201T032708Z
UID:330434-1502527800-1502535000@www.patriotguard.org
SUMMARY:John Paul Fox Sr.\, Veteran\, USAF
DESCRIPTION:John Paul Fox Sr.\, Veteran \nUSAF \nFarmington\, Missouri – 12 Aug 2017\n\n\n[HR][/HR] \nABOUT THE MISSION: \nThe Family of USAF Veteran A-1C (P) John P. Fox Sr. (79) has requested the Patriot Guard Riders for the Final Mission of their Loved One. \nJohn served his country from 1955-1975. He owned his own trucking company and drove until 1988. He enjoyed farming\, and his grandkids. \nUnder the direction of:\nCozean Funeral Home\n217 W Columbia St.\nFarmington\, Mo. 63640 \nPRIMARY STAGING DETAILS: 12 Aug 2017 \n\nPrimary Staging Time: 8:50 A.M.\n\n\nCozean Funeral Home\n217 W Columbia St.\nFarmington\, Missouri – 63640\n\n\n\nRide Captain:\n\n\nRon “Smoke” Hill \nSupport:\n“Spechel Ed” Wheetley\n\n\nSpecial Instructions:\n\n\nVisitation : 9:00 AM – 10:00 AM (Flag Line) \nService : 10:00 AM \nImmediately following service PGR will escort to IOOF cemetery for interment with Full Military Honors. \nWeather: 75° clear\n \n\nFlags & Water:\nFlags Will Be Provided\nIf you have large bike flags\, please bring them.\nWater will be provided. \n\n\nSubmitted By: Dave Beck\nPosition: Ride Captain \n\n[HR][/HR] \nNote:\nYou do not have to own/ride a motorcycle or be a Veteran to join and membership is Free. The only requirement is RESPECT! To join\, simply go to www.PatriotGuard.org and click on Register. Membership is Free. \nTo subscribe to receive mission notices\, log into the National Site and click on the Mission Tab at the top. Select Upcoming Missions by State. Scroll to the state(s) you would like to receive notices for and click on the green check mark. Detailed instructions are also located in the FAQs on the site by clicking on the Quick Links Tab and selecting FAQs.
URL:https://www.patriotguard.org/mission/john-paul-fox-sr-veteran-usaf/
LOCATION:Phillip Nelson Kerns
END:VEVENT
END:VCALENDAR