BEGIN:VCALENDAR
VERSION:2.0
PRODID:-//Patriot Guard Riders - ECPv5.3.2.1//NONSGML v1.0//EN
CALSCALE:GREGORIAN
METHOD:PUBLISH
X-WR-CALNAME:Patriot Guard Riders
X-ORIGINAL-URL:https://www.patriotguard.org
X-WR-CALDESC:Events for Patriot Guard Riders
BEGIN:VTIMEZONE
TZID:America/New_York
BEGIN:DAYLIGHT
TZOFFSETFROM:-0500
TZOFFSETTO:-0400
TZNAME:EDT
DTSTART:20190310T070000
END:DAYLIGHT
BEGIN:STANDARD
TZOFFSETFROM:-0400
TZOFFSETTO:-0500
TZNAME:EST
DTSTART:20191103T060000
END:STANDARD
END:VTIMEZONE
BEGIN:VEVENT
DTSTART;VALUE=DATE:20190626
DTEND;VALUE=DATE:20190627
DTSTAMP:20210405T070944
CREATED:20190625T133152Z
LAST-MODIFIED:20190625T133152Z
UID:165673-1561507200-1561593599@www.patriotguard.org
SUMMARY:John Paul Bussey
DESCRIPTION:Honor Mission\nJohn Paul Bussey\nUSN – GW/ODS\nDallas\, Texas – 06-26-19\n\n\n \n\nABOUT THE MISSION: \n\nJohn Paul Bussey\, beloved husband\, father\, friend and Navy veteran passed peacefully on June 1\, 2019. He was only 54 years of age. \nMr. Bussey joined the Navy in January 1987\, serving 4 years and 11 months before his discharge in December 1991. His deployments included the Philippines and Iraq during Desert Storm where he earned the National Defense Service Medal\, Humanitarian Service Medal\, SE Asia Service Medal\, Sea Service Deployment Ribbon (2nd award)\, Sharpshooter – M16 Rifle and Marksman – .45 Cal Pistol. \n\n\n\nPRIMARY STAGING DETAILS: 06-26-19 \nStaging Time: 9:30 am  \nDFW National Cemetery\n2000 Mountain Creek Pkwy\nDallas\, Texas 75211\n\n\nRide Captain: \nKen Hammock\nken2003hdrk@gmail.com\n(918) 289-4749\n\n\nSpecial Instructions: \nBriefing Time:0945\nIn Position/KSU Time: 10:00\nStarting Time: 10:15\nPGR will stage at the visitor center for a briefing. Honor Bikes will be selected. Remaining PGR will move to shelter B\, set flags and await the arrival of the Bussey family and friends. We will stand tall and silent during the service. At the conclusion of the service\, flags will be returned to the storage locker\, and Riders will be debriefed and dismissed.\n\nFlags & Water:\nFlags will be provided\nIf you have large bike flags\, please bring them.\nWater will be provided.\n\n\n\nSubmitted By: Dan Mathys \nPosition: Texas Ride Captain \n\nNote: You do not have to own/ride a motorcycle or be a veteran to join\, and membership is Free. The only requirement is RESPECT! To subscribe to receive mission notices\, log into the National Site and click on the Members tab at the top. Select the Subscribe to PGR Missions option.\n Print This Page
URL:https://www.patriotguard.org/mission/john-paul-bussey/
CATEGORIES:Honor Mission
END:VEVENT
END:VCALENDAR