BEGIN:VCALENDAR
VERSION:2.0
PRODID:-//Patriot Guard Riders - ECPv5.6.0//NONSGML v1.0//EN
CALSCALE:GREGORIAN
METHOD:PUBLISH
X-WR-CALNAME:Patriot Guard Riders
X-ORIGINAL-URL:https://www.patriotguard.org
X-WR-CALDESC:Events for Patriot Guard Riders
BEGIN:VTIMEZONE
TZID:America/New_York
BEGIN:DAYLIGHT
TZOFFSETFROM:-0500
TZOFFSETTO:-0400
TZNAME:EDT
DTSTART:20160313T070000
END:DAYLIGHT
BEGIN:STANDARD
TZOFFSETFROM:-0400
TZOFFSETTO:-0500
TZNAME:EST
DTSTART:20161106T060000
END:STANDARD
END:VTIMEZONE
BEGIN:VEVENT
DTSTART;TZID=America/New_York:20160627T090000
DTEND;TZID=America/New_York:20160627T110000
DTSTAMP:20210512T214620
CREATED:20160627T130000Z
LAST-MODIFIED:20191201T144759Z
UID:411009-1467018000-1467025200@www.patriotguard.org
SUMMARY:John Patrick Nowhitney\, USN
DESCRIPTION:Please note that due to ongoing OPSEC concerns\, mission details are not shown in this posting. All specific details and updates have been sent to members directly via their e-mail address on file. \nMembers:\n\nThe family of John P. Nowhitney has requested the participation of the Patriot Guard Riders in his military honors funeral. \n\nWHEN / WHERE:\nMonday\, June 27th\nSaratoga National Cemetery\nSchuylerville\, NY \nLRC – TBD \nABOUT THE MISSION:\nJohn P. Nowhitney answered his country’s call to service during World War II.  He enlisted in the US Navy in November\, 1942.  He proudly served as an Aviation Ordinance Man Third Class aboard the USS Belleawood (CVL-24) until his honorable discharge on February 2\, 1946. John served with unwavering courage alongside his fellow shipmates in the Pacific Theater Operations; the last occupation of Guam\, the occupation of the southern Palaus\, the Philippine Island raids\, Morotai landings\, Okinawa raid\, northern Luzon and Formosa raids\, Luzon strikes and the Battle of Cape Engano. On October 30th\, 1944 while the Belleauwood was patrolling with her task group\, east of Leyte\, she shot down a Japanese suicide plane which fell on her flight deck aft causing fires which set off ammunition. Before the holocaust could be brought under control 92 men were killed or missing. A memory which haunted John until his death. John was awarded a number of military honors for his service and heroism including the World War II Victory Medal\, Navy Good Conduct Medal\, American Campaign Medal\, Asiatic Pacific Campaign Medal with one Silver Star and four bronze stars\, Presidential Unit Citation Ribbon\, Combat Action Ribbon and Philippine Liberation Medal with two stars. Much later in life\, John finally embraced the fact that he was a true hero in saving many lives that day\, including his own. John was inducted into the New York State Veterans Hall of Fame by Senator James Seward on June 14\, 2011 for his service in combat\, an honor he treasured throughout the remaining years of his life.  \nJohn returned home to marry and raise a family. He became a corrections officer for the State of New York at Greenhaven prison.  He later left that position to open a tavern – “John’s Place” in Ballston Spa and John’s All Season’s Steak House in Schroon Lake. \nThe Patriot Guard Riders will be privileged to be there to render Honor\, Dignity and Respect for the life and service of John Patrick Nowhitney. \n—\nBill Schaaf\nbillschaaf@aol.com\n[URL=”tel:518-542-0608″]518-542-0608[/URL]
URL:https://www.patriotguard.org/mission/john-patrick-nowhitney-usn/
CATEGORIES:Archive
END:VEVENT
END:VCALENDAR