BEGIN:VCALENDAR
VERSION:2.0
PRODID:-//Patriot Guard Riders - ECPv5.6.0//NONSGML v1.0//EN
CALSCALE:GREGORIAN
METHOD:PUBLISH
X-WR-CALNAME:Patriot Guard Riders
X-ORIGINAL-URL:https://www.patriotguard.org
X-WR-CALDESC:Events for Patriot Guard Riders
BEGIN:VTIMEZONE
TZID:America/New_York
BEGIN:DAYLIGHT
TZOFFSETFROM:-0500
TZOFFSETTO:-0400
TZNAME:EDT
DTSTART:20160313T070000
END:DAYLIGHT
BEGIN:STANDARD
TZOFFSETFROM:-0400
TZOFFSETTO:-0500
TZNAME:EST
DTSTART:20161106T060000
END:STANDARD
END:VTIMEZONE
BEGIN:VEVENT
DTSTART;TZID=America/New_York:20160716T090000
DTEND;TZID=America/New_York:20160716T110000
DTSTAMP:20210512T142659
CREATED:20160716T130000Z
LAST-MODIFIED:20191201T144324Z
UID:410587-1468659600-1468666800@www.patriotguard.org
SUMMARY:John Parsons\, 68
DESCRIPTION:[FONT=&amp]We have been invited by the family of John Parsons\, 68\,  US Navy vet\, to stand in his honor.   Mr. Parsons served during the Vietnam era and received several citations  and awards.  It is our honor now to  stand for him.  The following  arrangements have been made…\n[/FONT]\nFUNERAL \nDAY/DATE:   Saturday\, July 16\, 2016\nPLACE:  Oak  Grove Church of Christ\, 1525 Damron Branch Road\, Grayson\, KY 41143\nTIME:  1:00  pm\nSTAGING AREA:   McDonald’s\, 751 Carol Malone Blvd\, Grayson\, KY 41143\nSTAGING TIME:   10:30 am\nKSU:  10:40  am \nBurial will be at the Parson Family Cemetery directly  following the service. \nPlease bring your 3×5 American flags\, arrive hydrated\,  and dress according to the weather conditions. \nI will be the Ride Captain for this mission.   If you have any questions\, please  contact me at the number below.  My  thanks to each of you.  Take care  and ride safely. \n Tom Epperly\nSr. Ride Captain\n606.571.9022
URL:https://www.patriotguard.org/mission/john-parsons-68/
CATEGORIES:Archive
END:VEVENT
END:VCALENDAR