BEGIN:VCALENDAR
VERSION:2.0
PRODID:-//Patriot Guard Riders - ECPv5.3.2.1//NONSGML v1.0//EN
CALSCALE:GREGORIAN
METHOD:PUBLISH
X-WR-CALNAME:Patriot Guard Riders
X-ORIGINAL-URL:https://www.patriotguard.org
X-WR-CALDESC:Events for Patriot Guard Riders
BEGIN:VTIMEZONE
TZID:America/New_York
BEGIN:DAYLIGHT
TZOFFSETFROM:-0500
TZOFFSETTO:-0400
TZNAME:EDT
DTSTART:20190310T070000
END:DAYLIGHT
BEGIN:STANDARD
TZOFFSETFROM:-0400
TZOFFSETTO:-0500
TZNAME:EST
DTSTART:20191103T060000
END:STANDARD
END:VTIMEZONE
BEGIN:VEVENT
DTSTART;VALUE=DATE:20190916
DTEND;VALUE=DATE:20190917
DTSTAMP:20210401T021129
CREATED:20190913T140118Z
LAST-MODIFIED:20190913T140118Z
UID:173810-1568592000-1568678399@www.patriotguard.org
SUMMARY:John Oppie
DESCRIPTION:Honor Mission\nJohn Oppie\, Veteran\nUSA\nKilleen\, Texas – 09-16-19\n\n\n \n\nABOUT THE MISSION: \nDuring the first three years of First Lieutenant John Oppie’s military service (January 1954 – January 1957) John graduated from OCS as a Second Lieutenant and lived in Ft Riley\, Kansas\, as well as Erlangen\, Germany.  Obituary\n\n\nPRIMARY STAGING DETAILS: 09-16-19 \nStaging Time: 10:05 a\n \nCentral Texas State Veterans Cemetery\n11463 SH 195\nKilleen\, Texas 76542\nMap\n\n\nRide Captain: \nThomas “Sleepy” Weideman\n254.258.4901\nTWeideman@hot.rr.com\n\n\nSpecial Instructions: \nMeet at the cul-de-sac between the Walk of Heroes and the Memorial Shelter. Upon clearance and at the direction of the Ride Captain\, we will move to the shelter\, set up the flags\, be briefed and await arrival of the procession.WX: Mostly sunny\, with a high near 95. Northwest wind 5 to 10 mph becoming east in the afternoon.\n\nFlags & Water:\nFlags will be provided\nLarge Bike Flags will NOT be needed.\nWater will be provided.\n\n\n\nSubmitted By: Holly Melendez \nPosition: Texas Ride Captain \n\nNote: You do not have to own/ride a motorcycle or be a veteran to join\, and membership is Free. The only requirement is RESPECT! To subscribe to receive mission notices\, log into the National Site and click on the Members tab at the top. Select the Subscribe to PGR Missions option.\n Print This Page
URL:https://www.patriotguard.org/mission/john-oppie/
CATEGORIES:Honor Mission
END:VEVENT
END:VCALENDAR