BEGIN:VCALENDAR
VERSION:2.0
PRODID:-//Patriot Guard Riders - ECPv5.3.2.1//NONSGML v1.0//EN
CALSCALE:GREGORIAN
METHOD:PUBLISH
X-WR-CALNAME:Patriot Guard Riders
X-ORIGINAL-URL:https://www.patriotguard.org
X-WR-CALDESC:Events for Patriot Guard Riders
BEGIN:VTIMEZONE
TZID:America/New_York
BEGIN:DAYLIGHT
TZOFFSETFROM:-0500
TZOFFSETTO:-0400
TZNAME:EDT
DTSTART:20170312T070000
END:DAYLIGHT
BEGIN:STANDARD
TZOFFSETFROM:-0400
TZOFFSETTO:-0500
TZNAME:EST
DTSTART:20171105T060000
END:STANDARD
END:VTIMEZONE
BEGIN:VEVENT
DTSTART;TZID=America/New_York:20171030T090000
DTEND;TZID=America/New_York:20171030T110000
DTSTAMP:20210405T195233
CREATED:20171030T130000Z
LAST-MODIFIED:20201226T054409Z
UID:310028-1509354000-1509361200@www.patriotguard.org
SUMMARY:John Noble Ventress\, Veteran\, USA
DESCRIPTION:Honor Mission\nJohn Noble Ventress\, Veteran\nUSA\nSheridan\, Arkansas – 30 Oct 2017\n\n\nABOUT THE MISSION: \nSP-4 John N. Ventress served in the US Army for 6 years having been awarded several awards prior to his Honorable Discharge. It will be an Honor to stand for this Hero who stood for us as a Vietnam Era Veteran.\nPRIMARY STAGING DETAILS: 30 Oct 2017 MONDAY\nPrimary Staging Time: 1:00 P.M. \nMemorial Gardens Funeral Home\n2686 US-167\nSheridan\, Arkansas – 72150\nRide Captain: \nRichard “Pa Pa G “ Gentry\nrichardgentry188@yahoo.com\n501-416-0685\nSpecial Instructions: \nRiding motorcycles\, especially in large groups\, is dangerous. All riders should be aware of those dangers and should not participate unless willing to accept the associated risks.Briefing: 1315 Hrs.\nMust attend the Briefing and stand in the Flag Line To Ride in the Escort.\nFlag Line: 1330 Hrs – 1400 Hrs\, until Commencement of the service.\nRespect Line: Following the service.\nEscort: To Memorial Gardens Cemetery\, about 1/2 mile from the Funeral Home.\nFlag line: At the cemetery service with Military Honors Requested. \n\nFlags & Water: \nFlags Will Be Provided\nIf you have large bike flags\, please bring them.\nWater will be provided.\n\n\nSubmitted By: RICHARD GENTRY\nPosition: Ride Captain\n \n\nNote:\nYou do not have to own/ride a motorcycle or be a Veteran to join and membership is Free. The only requirement is RESPECT! To join\, simply go to www.PatriotGuard.org and click on Register. Membership is Free. \nTo subscribe to receive mission notices\, log into the National Site and click on the Mission Tab at the top. Select the Subscribe to Missions option.
URL:https://www.patriotguard.org/mission/john-noble-ventress-veteran-usa/
CATEGORIES:Honor Mission
END:VEVENT
END:VCALENDAR