BEGIN:VCALENDAR
VERSION:2.0
PRODID:-//Patriot Guard Riders - ECPv5.6.0//NONSGML v1.0//EN
CALSCALE:GREGORIAN
METHOD:PUBLISH
X-WR-CALNAME:Patriot Guard Riders
X-ORIGINAL-URL:https://www.patriotguard.org
X-WR-CALDESC:Events for Patriot Guard Riders
BEGIN:VTIMEZONE
TZID:America/New_York
BEGIN:DAYLIGHT
TZOFFSETFROM:-0500
TZOFFSETTO:-0400
TZNAME:EDT
DTSTART:20160313T070000
END:DAYLIGHT
BEGIN:STANDARD
TZOFFSETFROM:-0400
TZOFFSETTO:-0500
TZNAME:EST
DTSTART:20161106T060000
END:STANDARD
END:VTIMEZONE
BEGIN:VEVENT
DTSTART;TZID=America/New_York:20160707T090000
DTEND;TZID=America/New_York:20160707T110000
DTSTAMP:20210512T122136
CREATED:20160707T130000Z
LAST-MODIFIED:20191201T144529Z
UID:410780-1467882000-1467889200@www.patriotguard.org
SUMMARY:John Moncrief
DESCRIPTION:PATRIOT GUARD RIDERS\nFINAL ITINERARY \nPatriot’s Name:	John Moncrief\nMilitary Branch(es):	United States Army\nClassification:	Veteran\nLink To Obituary:\nhttp://www.skyvuefuneralhome.com/book-of-memories/2607260/Moncrief-John/obituary.php \nMission Ride Captain:	Wendy “Hot Lips” Ingersoll\, califbabe55@yahoo.com\,\n(817) 991-9021\, Waxahachie \nMission Summary:	The family of John Moncrief has invited us to join them in honoring their loved one. We will do this by standing a flag line at the memorial service. \nPART 1:	Memorial Service\nMission Date:	Jul 07\, 2016 -Thursday\nStaging Time:	10:00\nBriefing Time:	10:15\nIn Position Time Or KSU:  10:30\nService Start Time:	11:00 \nDetails Of Part 1:	After assisting the support person in setting up the flags\, the mission brief will be given. At the appointed time we will then man the flag line to receive the family and guests of John Moncrief. Once the service has begun\, we will retrieve the flags\, furl and stow them in the support vehicle. After the post mission brief the riders will be dismissed. \nName Of Staging Point:\nSkyvue Funeral Home\n7220 Rendon Bloodworth Rd\nMansfield\, Texas 76063
URL:https://www.patriotguard.org/mission/john-moncrief/
CATEGORIES:Archive
END:VEVENT
END:VCALENDAR