BEGIN:VCALENDAR
VERSION:2.0
PRODID:-//Patriot Guard Riders - ECPv5.3.2.1//NONSGML v1.0//EN
CALSCALE:GREGORIAN
METHOD:PUBLISH
X-WR-CALNAME:Patriot Guard Riders
X-ORIGINAL-URL:https://www.patriotguard.org
X-WR-CALDESC:Events for Patriot Guard Riders
BEGIN:VTIMEZONE
TZID:America/New_York
BEGIN:DAYLIGHT
TZOFFSETFROM:-0500
TZOFFSETTO:-0400
TZNAME:EDT
DTSTART:20190310T070000
END:DAYLIGHT
BEGIN:STANDARD
TZOFFSETFROM:-0400
TZOFFSETTO:-0500
TZNAME:EST
DTSTART:20191103T060000
END:STANDARD
END:VTIMEZONE
BEGIN:VEVENT
DTSTART;VALUE=DATE:20190715
DTEND;VALUE=DATE:20190716
DTSTAMP:20210404T062652
CREATED:20190711T120751Z
LAST-MODIFIED:20190711T120751Z
UID:167295-1563148800-1563235199@www.patriotguard.org
SUMMARY:John Marsh
DESCRIPTION:Honor Mission\nJohn Marsh\, Veteran\nUSAF – Korea\nMULTI-CITY\, Arkansas – 07-15-19\n\n\n\nABOUT THE MISSION: \nMr. John Marsh was an Air Force veteran of the Korean War.\nObituary\n\n\nPRIMARY STAGING DETAILS: 07-15-19 \nStaging Time: 09:00 AM\n \nBackstrom-Pyeatte\n1401 East Main Street\nSiloam Springs\, Arkansas 72761\nMap\n\n\nRide Captain: \nGreg “Weebles” Weeks\nweeblespgr@att.net\n479-466-8586\n\nAsst: Cliff “Ol Man” Olson\, colson67@hotmail.com\, 479-301-4361\n\n\nSpecial Instructions: \nStage at 09:00\nBriefing at 09:15\nFlag Line from 09:30-10:00\n\n\nFlags & Water:\nFlags will be provided\nIf you have large bike flags\, please bring them.\nWater will be provided.\n\nSTAGING #2 DETAILS: 07-15-19 \nStaging Time: 11:00 AM\n \nBackstrom-Pyeatte\n1401 East Main Street\nSiloam Springs\, Arkansas 72761\n\n\nRide Captain: \nGreg “Weebles” Weeks\nweeblespgr@att.net\n479-466-8586\n\nAsst: Cliff “Ol Man” Olson\, colson67@hotmail.com\, 479-301-4361\n\n\nSpecial Instructions: \nEscort will leave funeral home approximately 11am. We will proceed to the Fayetteville National Cemetery. Upon arrival at National Cemetery\, we will dismount and form a flag line until the end of ceremony.\n\n\nFlags & Water:\nFlags will be provided\nIf you have large bike flags\, please bring them.\nWater will be provided.\n\n\n\nSubmitted By: Gregory Weeks \nPosition: \n\nNote: You do not have to own/ride a motorcycle or be a veteran to join\, and membership is Free. The only requirement is RESPECT! To subscribe to receive mission notices\, log into the National Site and click on the Members tab at the top. Select the Subscribe to PGR Missions option.\n Print This Page
URL:https://www.patriotguard.org/mission/john-marsh/
CATEGORIES:Honor Mission
END:VEVENT
END:VCALENDAR