BEGIN:VCALENDAR
VERSION:2.0
PRODID:-//Patriot Guard Riders - ECPv5.6.0//NONSGML v1.0//EN
CALSCALE:GREGORIAN
METHOD:PUBLISH
X-WR-CALNAME:Patriot Guard Riders
X-ORIGINAL-URL:https://www.patriotguard.org
X-WR-CALDESC:Events for Patriot Guard Riders
BEGIN:VTIMEZONE
TZID:America/New_York
BEGIN:DAYLIGHT
TZOFFSETFROM:-0500
TZOFFSETTO:-0400
TZNAME:EDT
DTSTART:20160313T070000
END:DAYLIGHT
BEGIN:STANDARD
TZOFFSETFROM:-0400
TZOFFSETTO:-0500
TZNAME:EST
DTSTART:20161106T060000
END:STANDARD
END:VTIMEZONE
BEGIN:VEVENT
DTSTART;TZID=America/New_York:20160629T090000
DTEND;TZID=America/New_York:20160629T110000
DTSTAMP:20210512T130740
CREATED:20160629T130000Z
LAST-MODIFIED:20191201T144908Z
UID:411110-1467190800-1467198000@www.patriotguard.org
SUMMARY:John M. Riedel\, USA\, Vietnam / Mesa
DESCRIPTION:John M. Riedel\nUnited States Army\nVietnam War\nMesa/Phoenix\, AZ\n29 June 16\n\n\n\nThe family of John M. Riedel has requested the presence of the Arizona Patriot Guard Riders for services and military honors. It will be our honor to participate. \nJohn served in the United States Army from 1964 to 1973. He served two tours in Vietnam as a helicopter pilot. John was honorably discharged in September 1973 having attained the rank of Captain. \nWhile in the service of his country John received the Distinguished Flying Cross\, Bronze Star\, Army Aviation Badge\, Vietnam Service Medal\, National Defense Service Medal\, Air Medal\, Army Commendation Medal\, Republic of Vietnam Campaign Medal. \nRide Captain:\nMike “Sully” Sullivan\n602-751-1694\nsullyazpgr@cox.net \nFlag Support Vehicle Person:\nKaren Swanson \nStaging Time: 0910 hours\nQueen of Peace Catholic Church\n141 N Macdonald\nMesa\, AZ 85201 \nBriefing Time: 0930 hours \nFlag line:  immediately following briefing at entrance to the church until start of service at 1000 hours. At conclusion of service we will escort our hero and his family to the national cemetery and stand a flag line for military honors \nKSU Time: 1130 hours \nStaging Time Two: 1210 hours\nNational Memorial Cemetery of Arizona\n23029 N Cave Creek Rd.\nPhoenix\, AZ 85024 \nMilitary Honors: 1230 hours\nNational Memorial Cemetery of Arizona\n23029 N Cave Creek Rd.Phoenix\, AZ 85024 \nRoad Guards are requested. Please contact James Spindler with availability \nDue to Arizona Weather\, please hydrate the day before and the day of the mission.
URL:https://www.patriotguard.org/mission/john-m-riedel-usa-vietnam-mesa/
END:VEVENT
END:VCALENDAR