BEGIN:VCALENDAR
VERSION:2.0
PRODID:-//Patriot Guard Riders - ECPv5.6.0//NONSGML v1.0//EN
CALSCALE:GREGORIAN
METHOD:PUBLISH
X-WR-CALNAME:Patriot Guard Riders
X-ORIGINAL-URL:https://www.patriotguard.org
X-WR-CALDESC:Events for Patriot Guard Riders
BEGIN:VTIMEZONE
TZID:America/New_York
BEGIN:DAYLIGHT
TZOFFSETFROM:-0500
TZOFFSETTO:-0400
TZNAME:EDT
DTSTART:20160313T070000
END:DAYLIGHT
BEGIN:STANDARD
TZOFFSETFROM:-0400
TZOFFSETTO:-0500
TZNAME:EST
DTSTART:20161106T060000
END:STANDARD
END:VTIMEZONE
BEGIN:VEVENT
DTSTART;TZID=America/New_York:20160730T090000
DTEND;TZID=America/New_York:20160730T110000
DTSTAMP:20210512T125658
CREATED:20160730T130000Z
LAST-MODIFIED:20191201T143942Z
UID:410247-1469869200-1469876400@www.patriotguard.org
SUMMARY:JOHN LEE DILLINGHAM\, 93\, USN
DESCRIPTION:JOHN LEE DILLINGHAM (93)\nUNITED STATES NAVY\nWW II VETERAN\nSATURDAY\, JULY 30\, 2016\n\n[ATTACH=CONFIG]4976[/ATTACH] \n\n\nBorn: January 4\, 1923\nDeceased: July 27\, 2016\n\nHis  family has requested that the PGR attend his services.  The mission is a  ‘go’ and all contacts have been made. \nMr. Dillingham served in the Navy  during WW II and was a Pearl Harbor survivor. \nHe was in many veteran  organizations\, including Chapter 8 of the Pearl Harbor Survivor  Association. \nHe was served as a Master Mason for over 50 years\, and  enjoyed westerns\, crossword puzzles and murder mysteries. He was a  member of Clearview Bible Church.    \nServices: 10:00 am\, July 30\, 2016\, at Eubank Funeral Home\, 27532 State Highway 64\, Canton\, TX 75103.  Interment will be at Haven of Memories\, Canton\, Texas. \nStaging: at the funeral home from 8:15 AM to 8:45 AM with a riders meeting at 8:45 AM.  Directions to the cemetery will be given by the Ride Captain. \nThe  PGR has been asked to be Pallbearers and to provide a short escort from  funeral home to gravesite. \nBIG FLAG BIKES ARE REQUESTED. \nAll  new members are requested to sign a PGR Release of Liability prior to  Flag Line.  Please remain flexible as to the requirements of the mission. \nMap link staging area: https://goo.gl/maps/6b2At87j1S72\n\nRide Captain:  Brad Hayes\nPhone:  [URL=”tel:903-520-2409″]903-520-2409[/URL]\nEmail Address:  brad.hayes68@yahoo.com \nFlag Captain:  Linda Hayes\nPhone:  [URL=”tel:903-520-2710″]903-520-2710[/URL]\nEmail Address:  lhayes1824@aol.com \nWeather Report: high will be close to 97 so please hydrate often\, including the night before. \nALL  GROUPS\, CLUBS\, INDEPENDENTS\, ETC. ARE WELCOME.  The only prerequisite  is RESPECT.  Also remember\, you do not have to ride a motorcycle to join  in.  The flag line is open to all who wish to participate.
URL:https://www.patriotguard.org/mission/john-lee-dillingham-93-usn/
CATEGORIES:Archive
END:VEVENT
END:VCALENDAR