BEGIN:VCALENDAR
VERSION:2.0
PRODID:-//Patriot Guard Riders - ECPv5.6.0//NONSGML v1.0//EN
CALSCALE:GREGORIAN
METHOD:PUBLISH
X-WR-CALNAME:Patriot Guard Riders
X-ORIGINAL-URL:https://www.patriotguard.org
X-WR-CALDESC:Events for Patriot Guard Riders
BEGIN:VTIMEZONE
TZID:America/New_York
BEGIN:DAYLIGHT
TZOFFSETFROM:-0500
TZOFFSETTO:-0400
TZNAME:EDT
DTSTART:20160313T070000
END:DAYLIGHT
BEGIN:STANDARD
TZOFFSETFROM:-0400
TZOFFSETTO:-0500
TZNAME:EST
DTSTART:20161106T060000
END:STANDARD
END:VTIMEZONE
BEGIN:VEVENT
DTSTART;TZID=America/New_York:20160728T090000
DTEND;TZID=America/New_York:20160728T110000
DTSTAMP:20210512T164855
CREATED:20160728T130000Z
LAST-MODIFIED:20191201T025923Z
UID:302164-1469696400-1469703600@www.patriotguard.org
SUMMARY:John Kissel\, USN\, Vietnam - USMCR Veteran
DESCRIPTION:The family of John Kissel has requested the Patriot Guard to honor their loved one and our hero. It will be our honor to do so and stand a flag line for him at the Georgia National Cemetery. \nJohn served in the Navy aboard the USS Constellation as a Jet mechanic during Vietnam 69-70. He later joined the Marine Corps Reserve where he attained the rank of SSgt. When John got out of the service he went into Law Enforcement and served as Barrow County Crime Scene Investigator for the Sheriff’s department. After retirement from Law Enforcement\, John became a tournament fisherman. \nThis is a flag line only mission. \nStaging at the PIC building at 1345 (1:45 PM) 7-28-16.\nGeorgia National Cemetery\n2025 Mt Carmel Church Ln.\nCanton\, GA \nRCIC:\nTom “Winger” Cissell\n770-298-8031\nwinger98@comcast.net
URL:https://www.patriotguard.org/mission/john-kissel-usn-vietnam-usmcr-veteran/
END:VEVENT
END:VCALENDAR