BEGIN:VCALENDAR
VERSION:2.0
PRODID:-//Patriot Guard Riders - ECPv5.6.0//NONSGML v1.0//EN
CALSCALE:GREGORIAN
METHOD:PUBLISH
X-WR-CALNAME:Patriot Guard Riders
X-ORIGINAL-URL:https://www.patriotguard.org
X-WR-CALDESC:Events for Patriot Guard Riders
BEGIN:VTIMEZONE
TZID:America/New_York
BEGIN:DAYLIGHT
TZOFFSETFROM:-0500
TZOFFSETTO:-0400
TZNAME:EDT
DTSTART:20160313T070000
END:DAYLIGHT
BEGIN:STANDARD
TZOFFSETFROM:-0400
TZOFFSETTO:-0500
TZNAME:EST
DTSTART:20161106T060000
END:STANDARD
END:VTIMEZONE
BEGIN:VEVENT
DTSTART;TZID=America/New_York:20160711T090000
DTEND;TZID=America/New_York:20160711T110000
DTSTAMP:20210512T133707
CREATED:20160711T130000Z
LAST-MODIFIED:20191201T144455Z
UID:410725-1468227600-1468234800@www.patriotguard.org
SUMMARY:John Joseph Walsh\, 93\, USA
DESCRIPTION:Confirmed Mission\nJohn Joseph Walsh \nU.S. Army Veteran – WWII\nNeenah\, WI\nMonday\, July 11\, 2016\n\n\nJohn Joseph Walsh\, age 93\, of Neenah passed away on Wednesday evening\, July 6\, 2016.  Jack was born in 1923 in Appleton and after he graduated from Appleton West High School in 1941\, he continued his education at Lawrence University\, then enlisted in the U.S. Army Air Corps.  Jack applied to be a pilot but failed the vision test and was sent to Brigham Young University for training then was assigned to the infantry and was sent overseas to serve as Platoon Sgt. with Patton’s 3rd Army.  He was awarded three battle stars\, a bronze star\, and a combat infantry badge for his service.  Jack was honorably discharged in December of 1945 with the rank of Tech Sergeant. \nJack and his wife Betty were the only married couple (both military – she was in the Coast Guard) to fly to Washington D.C. in 2010 aboard the Old Glory Honor Flight to see their memorial.  Jack was a member of the Disabled American Veterans and a Charter member of Valley Military Museum\, Fields of Honor 70th Division\, Assn. \nVisitation\nMonday\, July 11\, 2016\n10:00 a.m. – 11:00 a.m.\nSt Margaret Mary Parish\n439 Washington Ave\nNeenah\, WI  54956\n\nStaging\n9:00 a.m.  \nFuneral Mass follows\n11:00 a.m.  \nMilitary Honors will be performed at the church.\n\nRide Captain is Larry Cavanaugh lcavanaugh123@yahoo.com
URL:https://www.patriotguard.org/mission/john-joseph-walsh-93-usa/
CATEGORIES:Archive
END:VEVENT
END:VCALENDAR