BEGIN:VCALENDAR
VERSION:2.0
PRODID:-//Patriot Guard Riders - ECPv5.3.2.1//NONSGML v1.0//EN
CALSCALE:GREGORIAN
METHOD:PUBLISH
X-WR-CALNAME:Patriot Guard Riders
X-ORIGINAL-URL:https://www.patriotguard.org
X-WR-CALDESC:Events for Patriot Guard Riders
BEGIN:VTIMEZONE
TZID:America/New_York
BEGIN:DAYLIGHT
TZOFFSETFROM:-0500
TZOFFSETTO:-0400
TZNAME:EDT
DTSTART:20190310T070000
END:DAYLIGHT
BEGIN:STANDARD
TZOFFSETFROM:-0400
TZOFFSETTO:-0500
TZNAME:EST
DTSTART:20191103T060000
END:STANDARD
END:VTIMEZONE
BEGIN:VEVENT
DTSTART;VALUE=DATE:20190723
DTEND;VALUE=DATE:20190724
DTSTAMP:20210404T054657
CREATED:20190721T131215Z
LAST-MODIFIED:20190721T131215Z
UID:168417-1563840000-1563926399@www.patriotguard.org
SUMMARY:John Joseph Juba
DESCRIPTION:Honor Mission\nJohn Joseph Juba\, Veteran\nUSA –\nMesa\, Arizona – 07-23-19\n\n\n\nABOUT THE MISSION: \nJohn Joseph Juba was a United States Army veteran. He proudly served his country in the US Army from 1962 to 1965. After 8 months military training as a Hercules Missile Crew member he was assigned to Battery A 3rd Missile Battalion 71st Artillery. He served 2 years and 3 months in Germany in the Geinsheim area. His unit provided the firing components in the missile defense of Western Germany. Specialist 4th Class Juba was honorably discharged in August 1965. He earned the Good Conduct Medal and Expert Rifle Medal.\n\n\nPRIMARY STAGING DETAILS: 07-23-19 \nStaging Time: 1:00 PM\n \nQueen of Heaven Catholic Funeral Home\n1562 E. Baseline Rd\nMesa\, Arizona 85204\n\n\nRide Captain: \nTim Gentry\n402-210-7857\ntgentry100@gmail.com\n\nFlag Captain: TBD\n\n\nSpecial Instructions: \nMeet Ride Captain at the St. Charbel Mausoleum. North side of cemetery.\nFlag Line Set: 1:15 PM\nMilitary Honors: 1:30 PM\n\n\nFlags & Water:\nFlags will be provided\nLarge Bike Flags will NOT be needed.\nWater will be provided.\n\n\n\nSubmitted By: Bill Wooster \nPosition: Arizona Assistant State Captain \n\nNote: You do not have to own/ride a motorcycle or be a veteran to join\, and membership is Free. The only requirement is RESPECT! To subscribe to receive mission notices\, log into the National Site and click on the Members tab at the top. Select the Subscribe to PGR Missions option.\n Print This Page
URL:https://www.patriotguard.org/mission/john-joseph-juba/
CATEGORIES:Honor Mission
END:VEVENT
END:VCALENDAR