BEGIN:VCALENDAR
VERSION:2.0
PRODID:-//Patriot Guard Riders - ECPv5.3.2.1//NONSGML v1.0//EN
CALSCALE:GREGORIAN
METHOD:PUBLISH
X-WR-CALNAME:Patriot Guard Riders
X-ORIGINAL-URL:https://www.patriotguard.org
X-WR-CALDESC:Events for Patriot Guard Riders
BEGIN:VTIMEZONE
TZID:America/New_York
BEGIN:DAYLIGHT
TZOFFSETFROM:-0500
TZOFFSETTO:-0400
TZNAME:EDT
DTSTART:20190310T070000
END:DAYLIGHT
BEGIN:STANDARD
TZOFFSETFROM:-0400
TZOFFSETTO:-0500
TZNAME:EST
DTSTART:20191103T060000
END:STANDARD
END:VTIMEZONE
BEGIN:VEVENT
DTSTART;VALUE=DATE:20190914
DTEND;VALUE=DATE:20190915
DTSTAMP:20210401T082114
CREATED:20190911T234240Z
LAST-MODIFIED:20190911T234330Z
UID:173577-1568419200-1568505599@www.patriotguard.org
SUMMARY:John Jones
DESCRIPTION:Honor Mission\nJohn Jones\, Veteran\nUSN – WWII\nWest Palm Beach\, Florida – 09-14-19\n\n\n\nABOUT THE MISSION: \nThe family of Chief John Jones has graciously requested the Patriot Guard Riders’ presence as they pay their respects to their loved one. Chief John Jones faithfully served his country in the U.S. Navy and defended our country in the Pacific Theater during WW II. Large flags bikes are needed\, but all bikes are welcome to escort this Hero’s family. Please hydrate. If you are not comfortable riding in a group\, please meet us at the Church for a flag-line.\nPlease bring your 3 X 5 American flags and stand in honor and respect for this U.S. Sailor and his family.\n\n\nPRIMARY STAGING DETAILS: 09-14-19 \nStaging Time: 12:40 PM\n \nUS Post Office\n3900 Haverhill Rd\nWest Palm Beach\, Florida 33417\n\n\nRide Captain: \nMike “Dyna Mike” Lukens\nCell: (561) 715-0212\n\n\nSpecial Instructions: \n12:55 pm– Brief\n1:00 pm – KSU\, ride to pick-up family\n1:15 pm  – Escort to church.\nIf you are uncomfortable riding in a group you can choose to meet at the church and stand a flag-line.\n\n\nFlags & Water:\nFlags will not be provided.\nIf you have large bike flags\, please bring them.\nWater WILL NOT be provided\, please bring your own.\n\nSTAGING #2 DETAILS: 09-14-19 \nStaging Time: 1:15 pPM\n \nTabernacle Missionary Baptist Church\n801 8th St.\nWest Palm Beach\, Florida 33401\n\n\nRide Captain: \nTBD\n\n\nSpecial Instructions: \n1:20 pm – Flag line\n1:30 pm – Arrival of escort (est)\n2:00 pm – Service\nPlease bring your 3 X 5 American Flags and stand in honor and respect for this U.S. Sailor and his family.\n\n\nFlags & Water:\nFlags will not be provided.\nLarge Bike Flags will NOT be needed.\nWater WILL NOT be provided\, please bring your own.\n\n\n\nSubmitted By: Jeff Garten \nPosition: Florida Assistant State Captain \n\nNote: You do not have to own/ride a motorcycle or be a veteran to join\, and membership is Free. The only requirement is RESPECT! To subscribe to receive mission notices\, log into the National Site and click on the Members tab at the top. Select the Subscribe to PGR Missions option.\n Print This Page
URL:https://www.patriotguard.org/mission/john-jones/
CATEGORIES:Honor Mission
END:VEVENT
END:VCALENDAR