BEGIN:VCALENDAR
VERSION:2.0
PRODID:-//Patriot Guard Riders - ECPv5.3.2.1//NONSGML v1.0//EN
CALSCALE:GREGORIAN
METHOD:PUBLISH
X-WR-CALNAME:Patriot Guard Riders
X-ORIGINAL-URL:https://www.patriotguard.org
X-WR-CALDESC:Events for Patriot Guard Riders
BEGIN:VTIMEZONE
TZID:America/New_York
BEGIN:DAYLIGHT
TZOFFSETFROM:-0500
TZOFFSETTO:-0400
TZNAME:EDT
DTSTART:20180311T070000
END:DAYLIGHT
BEGIN:STANDARD
TZOFFSETFROM:-0400
TZOFFSETTO:-0500
TZNAME:EST
DTSTART:20181104T060000
END:STANDARD
END:VTIMEZONE
BEGIN:VEVENT
DTSTART;TZID=America/New_York:20180330T133000
DTEND;TZID=America/New_York:20180330T153000
DTSTAMP:20210403T131045
CREATED:20180330T173000Z
LAST-MODIFIED:20191201T030928Z
UID:313676-1522416600-1522423800@www.patriotguard.org
SUMMARY:John "Jack" William Almeida\, Sr.\, Veteran\, USMC\, USMCR
DESCRIPTION:Honor Mission \nJohn “Jack” William Almeida\, Sr.\, Veteran\nUSMC USMCR\nJacksonville\, Florida – 30 Mar 2018\n\n\n[HR][/HR]\nABOUT THE MISSION: \n\nThe family and friends of Cpl John William Almeida\, US Marine Corps\, requests the presence of the Patriot Guard Riders to honor their hero on Friday\, March 30\, 2018 at his interment. \nCpl Almeida spent 6 years in the US Marine Corps and Marine Corps Reserve.  After his time in the Marine Corps he worked for the Clay County Sheriff’s Department. He was also a member of the Blue Knights MC. \nMilitary Awards include:  National Defense Service Medal\, Good Conduct Medal and Rifle Expert Ribbon. \nCpl Almeida proudly served this country well and faithfully. It is now our turn to render honors and provide a heartfelt thanks for his service and sacrifice to our country.\n \n\nPRIMARY STAGING DETAILS:  30 Mar 2018\nPrimary Staging Time: 1:30 P.M. \n\nLannie Road Baptist Church\n5998 Lannie Rd.\nJacksonville\, Florida – 32218\nhttps://goo.gl/maps/ZW4je66p1my\n\n\nRide Captain: \n\nThomas Johnson\nthomas_johnson@bellsouth.net\nC  (904) 509-9493\nH  (386) 312-0018\n\n\nSpecial Instructions: \n\nBrief:  1:45 PM\nKSU:  2:00 PM \nTo ride this mission you must be present during the brief\n \n\nFlags & Water: \n\nFlags Will Be Provided\nIf you have large bike flags\, please bring them.\nWater WILL NOT be provided\, please bring your own.\n\nSubmitted By: Richard Vernon\nPosition: Assistant State Captain\n[HR][/HR]Note:\nYou do not have to own/ride a motorcycle or be a Veteran to join and membership is Free. The only requirement is RESPECT! To join\, simply go to www.PatriotGuard.org and click on Register. Membership is Free. \nTo subscribe to receive mission notices\, log into the National Site and click on the Mission Tab at the top. Select the Subscribe to Missions option.
URL:https://www.patriotguard.org/mission/john-jack-william-almeida-sr-veteran-usmc-usmcr/
LOCATION:Philip Patrick Burnette
END:VEVENT
END:VCALENDAR