BEGIN:VCALENDAR
VERSION:2.0
PRODID:-//Patriot Guard Riders - ECPv5.3.2.1//NONSGML v1.0//EN
CALSCALE:GREGORIAN
METHOD:PUBLISH
X-WR-CALNAME:Patriot Guard Riders
X-ORIGINAL-URL:https://www.patriotguard.org
X-WR-CALDESC:Events for Patriot Guard Riders
BEGIN:VTIMEZONE
TZID:America/New_York
BEGIN:DAYLIGHT
TZOFFSETFROM:-0500
TZOFFSETTO:-0400
TZNAME:EDT
DTSTART:20190310T070000
END:DAYLIGHT
BEGIN:STANDARD
TZOFFSETFROM:-0400
TZOFFSETTO:-0500
TZNAME:EST
DTSTART:20191103T060000
END:STANDARD
END:VTIMEZONE
BEGIN:VEVENT
DTSTART;VALUE=DATE:20190607
DTEND;VALUE=DATE:20190608
DTSTAMP:20210405T132539
CREATED:20190606T190534Z
LAST-MODIFIED:20190606T190628Z
UID:163790-1559865600-1559951999@www.patriotguard.org
SUMMARY:John "Jack" Farls
DESCRIPTION:Honor Mission\nJohn “Jack” Farls\, Veteran\nUSMC\nCranberry Township\, Pennsylvania – 06-07-19\n\n\n\nABOUT THE MISSION: \nThe Patriot Guard Riders have been invited by the family of Dr. John “Jack” Farls U.S. Marine Corps\, to stand in silent honor for his service.  Dr. Farls served from December of 1959 to March of 1963 and attained the rank of Captain.  Jack served our country with honor\, now its our turn to stand in honor for him.\n\n\nPRIMARY STAGING DETAILS: 06-07-19 \nStaging: 1:15 pm  \nBoylan Glenn Kildoo Funeral Home\n130 Wisconsin Ave\nCranberry Township\, Pennsylvania 16066\nhttps://goo.gl/maps/WaNMwmgbkV4msA4k6\n\n\nRide Captain: \nAaron Zeff\npgrpa.asc.west@gmail.com\n(724) 587-5626\n\n\nSpecial Instructions: \nBriefing: 1:30 pm\nFlag Line: 1:45 pm\nViewing: 2-3:30 pm\, Memorial Service following.\nMembers can attend all of a mission or any part of the mission.  PGR sets no time for a member to stand a mission.  We Thank you for whatever time you give us and the families of our heroes appreciate your time.  Please watch the weather\, dress accordingly and hydrate.\n\n\nFlags & Water:\nFlags will not be provided\nLarge Bike Flags will NOT be needed.\nWater WILL NOT be provided\, please bring your own.\n\nSubmitted By: Marcy Sorensen \nPosition: Pennsylvania Ride Captain \n\nNote: You do not have to own/ride a motorcycle or be a veteran to join\, and membership is Free. The only requirement is RESPECT! To subscribe to receive mission notices\, log into the National Site and click on the Members tab at the top. Select the Subscribe to PGR Missions option.\n Print This Page
URL:https://www.patriotguard.org/mission/john-jack-farls/
CATEGORIES:Honor Mission
END:VEVENT
END:VCALENDAR