BEGIN:VCALENDAR
VERSION:2.0
PRODID:-//Patriot Guard Riders - ECPv5.6.0//NONSGML v1.0//EN
CALSCALE:GREGORIAN
METHOD:PUBLISH
X-WR-CALNAME:Patriot Guard Riders
X-ORIGINAL-URL:https://www.patriotguard.org
X-WR-CALDESC:Events for Patriot Guard Riders
BEGIN:VTIMEZONE
TZID:America/New_York
BEGIN:DAYLIGHT
TZOFFSETFROM:-0500
TZOFFSETTO:-0400
TZNAME:EDT
DTSTART:20160313T070000
END:DAYLIGHT
BEGIN:STANDARD
TZOFFSETFROM:-0400
TZOFFSETTO:-0500
TZNAME:EST
DTSTART:20161106T060000
END:STANDARD
END:VTIMEZONE
BEGIN:VEVENT
DTSTART;TZID=America/New_York:20160813T090000
DTEND;TZID=America/New_York:20160813T110000
DTSTAMP:20210512T015834
CREATED:20160813T130000Z
LAST-MODIFIED:20191201T143707Z
UID:410007-1471078800-1471086000@www.patriotguard.org
SUMMARY:John J. Connors\, USA Veteran / South Windsor\, CT
DESCRIPTION:Patriot Guard and Associates\,\n\nSadly we are called to stand a Flag Line for John J. Connors\, Sgt\, US Army\, who served from 1968 to 1970 with the 57th Military Police Company\, Corps of Military Police\, US Military Academy\, Deputy Chief of Staff for Personnel\, as a Military Policeman at West Point\, New York. He was awarded the Army Good Conduct Medal and the National Defense Service Medal. \nThis veteran has no surviving family\, so the Patriot Guard is honored to stand as his family. We will stand a Flag Line during calling hours\, from 1000 to 1100 hrs (10:00 to 11:00 am)\, with a service in the funeral home at 1100 hrs (11:00 am). We will provide a Flag Vehicle Escort to the cemetery in Massachusetts. \nAssistant State Captain Jack Casey will be RCIC and Flags will be on site. \nSTAGE:                     0900 HRS (9:00 AM)\, Saturday\, 13 August 2016\n                                   Samsel and Carmon Funeral Home\n                                   419 Buckland Road\n                                   South Windsor\, CT 06074 \nINTERMENT:             St. Michael’s Cemetery\n                                   1601 State Street\n                                    Springfield\, MA 01109
URL:https://www.patriotguard.org/mission/john-j-connors-usa-veteran-south-windsor-ct/
END:VEVENT
END:VCALENDAR