BEGIN:VCALENDAR
VERSION:2.0
PRODID:-//Patriot Guard Riders - ECPv5.6.0//NONSGML v1.0//EN
CALSCALE:GREGORIAN
METHOD:PUBLISH
X-WR-CALNAME:Patriot Guard Riders
X-ORIGINAL-URL:https://www.patriotguard.org
X-WR-CALDESC:Events for Patriot Guard Riders
BEGIN:VTIMEZONE
TZID:America/New_York
BEGIN:DAYLIGHT
TZOFFSETFROM:-0500
TZOFFSETTO:-0400
TZNAME:EDT
DTSTART:20160313T070000
END:DAYLIGHT
BEGIN:STANDARD
TZOFFSETFROM:-0400
TZOFFSETTO:-0500
TZNAME:EST
DTSTART:20161106T060000
END:STANDARD
END:VTIMEZONE
BEGIN:VEVENT
DTSTART;TZID=America/New_York:20160627T090000
DTEND;TZID=America/New_York:20160627T110000
DTSTAMP:20210512T133044
CREATED:20160627T130000Z
LAST-MODIFIED:20191201T144832Z
UID:411055-1467018000-1467025200@www.patriotguard.org
SUMMARY:John J. Boltralik\, USAAC\, WWII / St. Peters
DESCRIPTION:The Family of John J. Boltralik has respectfully requested the Patriot Guard Riders assist with the services of their loved one by Standing a Tall and Silent Flag Line of Honor and Respect\, then escorting him to his final place of rest\, the Hallowed Grounds of Jefferson Barracks National Cemetery. \nMr. Boltralik served our country with Honor during WW II in the U.S. Army Air Corp from 22 Oct 1943 til 30 June 1946. \nWhile serving Mr. Boltralik earned the Rank of Sergeant.  Sgt. Boltralik was awarded the American Theater Ribbon\, the WW II Victory Ribbon and the U.S. Army Good Conduct Medal.\n\nSTAGE:                                               Newcomer Funeral Home\n                                                            837 Mid Rivers Mall Dr.\n                                                            St. Peters\, Mo. 63376\n                                                            Monday June 27th at 10:45 A.M. \nFLAG LINE:                                        11:00 A.M. til 12:00 P.M. \nSERVICE:                                           12:00 P.M. \nESCORT:                                            Jefferson Barracks National Cemetery \n                                                                 Time Slot   2:00 P.M. \nFLAG SUPPORT:                               Danny”WolfMan” Reinbold \nRIDE CAPT:                                        Bob”GrampyBob”Griffith\n                                                              pgr4559@yahoo.com
URL:https://www.patriotguard.org/mission/john-j-boltralik-usaac-wwii-st-peters/
CATEGORIES:Archive
END:VEVENT
END:VCALENDAR