BEGIN:VCALENDAR
VERSION:2.0
PRODID:-//Patriot Guard Riders - ECPv5.6.0//NONSGML v1.0//EN
CALSCALE:GREGORIAN
METHOD:PUBLISH
X-WR-CALNAME:Patriot Guard Riders
X-ORIGINAL-URL:https://www.patriotguard.org
X-WR-CALDESC:Events for Patriot Guard Riders
BEGIN:VTIMEZONE
TZID:America/New_York
BEGIN:DAYLIGHT
TZOFFSETFROM:-0500
TZOFFSETTO:-0400
TZNAME:EDT
DTSTART:20160313T070000
END:DAYLIGHT
BEGIN:STANDARD
TZOFFSETFROM:-0400
TZOFFSETTO:-0500
TZNAME:EST
DTSTART:20161106T060000
END:STANDARD
END:VTIMEZONE
BEGIN:VEVENT
DTSTART;TZID=America/New_York:20160617T090000
DTEND;TZID=America/New_York:20160617T110000
DTSTAMP:20210513T082542
CREATED:20160617T130000Z
LAST-MODIFIED:20191201T145028Z
UID:411230-1466154000-1466161200@www.patriotguard.org
SUMMARY:John Howell\, USMC
DESCRIPTION:John “Jim” Howell\nUSMC Vietnam Veteran\nPonchatoula\, LA 70454\n06-17-2016\n\n\n\nThe family of John “Jim” Howell has requested the Patriot Guard to STAND for their loved one. He served in the US Marine Corps. \nPRIMARY STAGING INFO – 06-17-2016:\nLocation:\nHarry McNeeley Funeral Home\n100 W. Magnolia St\nPonchatoula\, La 70454 \nStaging Time: 8:30 A.M. \nSpecial Instructions:\nPGR riders will meet\, brief\, and deploy flags prior to visitation. Visitation: 9:00 AM to 11:00 AM Services: 11:00 AM PGR will escort Mr Howell to a cemetery in Independence\, LA. assuming LEO has been arranged. We will determine this in the morning. \nRCIC:\nSid Gale\nsidgale@cox.net \nAssisting RCs: \nFlags will be provided.\nLarge bike flags will be needed. \nWeather: 91 degrees – HOT & Sunny
URL:https://www.patriotguard.org/mission/john-howell-usmc/
CATEGORIES:Archive
END:VEVENT
END:VCALENDAR