BEGIN:VCALENDAR
VERSION:2.0
PRODID:-//Patriot Guard Riders - ECPv5.3.2.1//NONSGML v1.0//EN
CALSCALE:GREGORIAN
METHOD:PUBLISH
X-WR-CALNAME:Patriot Guard Riders
X-ORIGINAL-URL:https://www.patriotguard.org
X-WR-CALDESC:Events for Patriot Guard Riders
BEGIN:VTIMEZONE
TZID:America/New_York
BEGIN:DAYLIGHT
TZOFFSETFROM:-0500
TZOFFSETTO:-0400
TZNAME:EDT
DTSTART:20180311T070000
END:DAYLIGHT
BEGIN:STANDARD
TZOFFSETFROM:-0400
TZOFFSETTO:-0500
TZNAME:EST
DTSTART:20181104T060000
END:STANDARD
END:VTIMEZONE
BEGIN:VEVENT
DTSTART;TZID=America/New_York:20180307T090000
DTEND;TZID=America/New_York:20180307T110000
DTSTAMP:20210402T042146
CREATED:20180307T140000Z
LAST-MODIFIED:20191201T035009Z
UID:345657-1520413200-1520420400@www.patriotguard.org
SUMMARY:John Howard Rogers\, Veteran\, USN - Vietnam
DESCRIPTION:Honor Mission \nJohn Howard Rogers\, Veteran\nUSN  – Vietnam\nMULTI-CITY\, Texas – 07 Mar 2018\n\n\n[HR][/HR]\nABOUT THE MISSION: \n\nThe family of Mr. John Rogers has asked the Patriot Guard Riders to honor his memory and service to our country by standing a flag line at his funeral service. \nThis is a two-part Mission\, with the funeral occurring on Wednesday and committal on Thursday.\n \n\nPRIMARY STAGING DETAILS:  07 Mar 2018\nPrimary Staging Time: 09:00 A.M. \n\nTurning Point Church of God\n1020 East Pleasant Run Road\nDeSoto\, Texas – 75115\nhttps://goo.gl/maps/G85WZFwN2TR2\n\n\nRide Captain: \n\nRick Crabb\nrandjcrabb@juno.com\n(910) 330-986\n\n\nSpecial Instructions: \n\nAfter the mission brief\, the Riders will establish the flag line and prepare to receive the family and friends of Mr. Rogers. When directed the Riders will return the flags to the support vehicle\, be debriefed and dismissed. The family has requested that two Riders remain behind and stand honors beside Mr. Rogers during the pass-by. This will conclude the first part of this Mission\n\n\nFlags & Water: \n\nFlags Will Be Provided\nLarge Bike Flags will NOT be needed.\nWater will be provided.\n\n[HR][/HR]STAGING #2 DETAILS: 08 Mar\, 2018\nStaging #2 Time: 09:15 A.M. \n\nDallas – Fort Worth National Cemetery\n2000 Mountain Creek Parkway\nDallas\, Texas – 75211\nhttps://goo.gl/maps/cYzbhA4KjiK2\n\n\nRide Captain: \n\nRick Crabb\nrandjcrabb@juno.com\n(910) 330-986\n\n\nSpecial Instructions: \n\nAfter the mission brief\, four designated honor bikes will move to the staging lane and escort the procession. The remainder of the Riders will proceed to the committal shelter\, establish the flag line and prepare to receive the family and friends of Mr. Rogers. When directed the Riders will return the flags to storage\, be debriefed and dismissed\n\n\nFlags & Water: \n\nFlags Will Be Provided\nLarge Bike Flags will be needed\nWater will be provided.\n\nSubmitted By: Ted Waldron\nPosition: Ride Captain\n[HR][/HR]Note:\nYou do not have to own/ride a motorcycle or be a Veteran to join and membership is Free. The only requirement is RESPECT! To join\, simply go to www.PatriotGuard.org and click on Register. Membership is Free. \nTo subscribe to receive mission notices\, log into the National Site and click on the Mission Tab at the top. Select the Subscribe to Missions option.
URL:https://www.patriotguard.org/mission/john-howard-rogers-veteran-usn-vietnam/
END:VEVENT
END:VCALENDAR