BEGIN:VCALENDAR
VERSION:2.0
PRODID:-//Patriot Guard Riders - ECPv5.3.2.1//NONSGML v1.0//EN
CALSCALE:GREGORIAN
METHOD:PUBLISH
X-WR-CALNAME:Patriot Guard Riders
X-ORIGINAL-URL:https://www.patriotguard.org
X-WR-CALDESC:Events for Patriot Guard Riders
BEGIN:VTIMEZONE
TZID:America/New_York
BEGIN:DAYLIGHT
TZOFFSETFROM:-0500
TZOFFSETTO:-0400
TZNAME:EDT
DTSTART:20190310T070000
END:DAYLIGHT
BEGIN:STANDARD
TZOFFSETFROM:-0400
TZOFFSETTO:-0500
TZNAME:EST
DTSTART:20191103T060000
END:STANDARD
END:VTIMEZONE
BEGIN:VEVENT
DTSTART;VALUE=DATE:20190905
DTEND;VALUE=DATE:20190906
DTSTAMP:20210401T130347
CREATED:20190902T194019Z
LAST-MODIFIED:20190902T194019Z
UID:172408-1567641600-1567727999@www.patriotguard.org
SUMMARY:John Henry Terrell
DESCRIPTION:Honor Mission\nJohn Henry Terrell\, Veteran\nUSA – Vietnam\nLas Cruces\, New Mexico – 09-05-19\n\n\n\nABOUT THE MISSION: \nSgt. John Henry Terrell served in the United States Army from Jul 1968 until Mar 1970\, in Vietnam. His decorations are the Bronze Star\, USA Commendation Medal\, National Defense Medal\,Vietnam Service Medal\, Vietnam Campaign Medal\, and the Vietnam Gallantry Cross\,\n\n\nPRIMARY STAGING DETAILS: 09-05-19 \nStaging Time: 2:15 pm  \nBaca’s Funeral Home\n300 E. Boutz\nLas Cruces\, New Mexico 88005\n\n\nRide Captain: \nPGR will meet at Baca’s Funeral Home in Las Cruces\, 5 Sep\, 1415. Safety Briefing will be at 1425 and a Flagline established at 1430-1500. After the services at Baca’s\, the PGR will escort Sgt. Terrell and the family to the VFW Post\, 1580 4th St. Anthony\, NM 88021. There will be a short ceremony at the VFW. The PGR will reestablish the Flagline for the 21 Gun Salute and TAPs at the VFW. The PGR is also invited to stay fro a reception to follow at the VFW.Ride Capt will be Bobby (Mr. Wonderful) Jakcsy 575-496-1809bobby.jakcsy@gmail.com\n\n\n\n\nFlags & Water:\nFlags will be provided\nIf you have large bike flags\, please bring them.\nWater will be provided.\n\nSubmitted By: Bobby Jakcsy \nPosition: New Mexico Ride Captain \n\nNote: You do not have to own/ride a motorcycle or be a veteran to join\, and membership is Free. The only requirement is RESPECT! To subscribe to receive mission notices\, log into the National Site and click on the Members tab at the top. Select the Subscribe to PGR Missions option.\n Print This Page
URL:https://www.patriotguard.org/mission/john-henry-terrell/
CATEGORIES:Honor Mission
END:VEVENT
END:VCALENDAR