BEGIN:VCALENDAR
VERSION:2.0
PRODID:-//Patriot Guard Riders - ECPv5.3.2.1//NONSGML v1.0//EN
CALSCALE:GREGORIAN
METHOD:PUBLISH
X-WR-CALNAME:Patriot Guard Riders
X-ORIGINAL-URL:https://www.patriotguard.org
X-WR-CALDESC:Events for Patriot Guard Riders
BEGIN:VTIMEZONE
TZID:America/New_York
BEGIN:DAYLIGHT
TZOFFSETFROM:-0500
TZOFFSETTO:-0400
TZNAME:EDT
DTSTART:20190310T070000
END:DAYLIGHT
BEGIN:STANDARD
TZOFFSETFROM:-0400
TZOFFSETTO:-0500
TZNAME:EST
DTSTART:20191103T060000
END:STANDARD
END:VTIMEZONE
BEGIN:VEVENT
DTSTART;VALUE=DATE:20190819
DTEND;VALUE=DATE:20190820
DTSTAMP:20210402T102626
CREATED:20190817T192557Z
LAST-MODIFIED:20190817T192728Z
UID:171195-1566172800-1566259199@www.patriotguard.org
SUMMARY:John Henry Sutton
DESCRIPTION:Honor Mission\nJohn Henry Sutton\, Retired\nUSN\nPilot Knob\, Missouri – 08-19-19\n\n\n\nABOUT THE MISSION: \nThe family of US Navy Retired Veteran\, SCPO. John H. Sutton (71 yrs.) has requested the presence of the Patriot Guard for to honor their loved one. SCPO Sutton served his country from 1967 to 1992 (25 yrs.). Senior Chief Sutton had served a distinguished career on board the USS Lexington\, USS Randolph\, USS Independence\, USS Enterprise and the USS Forrestal Aircraft Carriers.\n\n\nPRIMARY STAGING DETAILS: 08-19-19 \nStaging Time: 9:45 am  \nBryson Funeral Home\n312 S. Valle Street\nPilot Knob\, Missouri 63663\n\n\nRide Captain: \nRCIC:Brad “Backdraft” Hahn\npgr_bkdft@hotmail.com\n\n\nSpecial Instructions: \nStaging : 9:45 am. to Stake & Establish a Flag Line.\nVisitation: 10:00am to 11:00 am.\nService: 11:00 am.\nHonor Escort to the Arcadia Valley Memorial Park (approx. 3 mi.) for Interment with Full Military Honors.Weather: 88 / Isolated Thunderstorms / 30% Chance of Precip\n\n\nFlags & Water:\nFlags will be provided\nIf you have large bike flags\, please bring them.\nWater will be provided.\n\n\nSubmitted By: S. Roger “Goose” Dollinger \nPosition: Missouri Ride Captain \n\nNote: You do not have to own/ride a motorcycle or be a veteran to join\, and membership is Free. The only requirement is RESPECT! To subscribe to receive mission notices\, log into the National Site and click on the Members tab at the top. Select the Subscribe to PGR Missions option.\n Print This Page
URL:https://www.patriotguard.org/mission/john-henry-sutton/
CATEGORIES:Honor Mission
END:VEVENT
END:VCALENDAR