BEGIN:VCALENDAR
VERSION:2.0
PRODID:-//Patriot Guard Riders - ECPv5.3.2.1//NONSGML v1.0//EN
CALSCALE:GREGORIAN
METHOD:PUBLISH
X-WR-CALNAME:Patriot Guard Riders
X-ORIGINAL-URL:https://www.patriotguard.org
X-WR-CALDESC:Events for Patriot Guard Riders
BEGIN:VTIMEZONE
TZID:America/New_York
BEGIN:DAYLIGHT
TZOFFSETFROM:-0500
TZOFFSETTO:-0400
TZNAME:EDT
DTSTART:20190310T070000
END:DAYLIGHT
BEGIN:STANDARD
TZOFFSETFROM:-0400
TZOFFSETTO:-0500
TZNAME:EST
DTSTART:20191103T060000
END:STANDARD
END:VTIMEZONE
BEGIN:VEVENT
DTSTART;VALUE=DATE:20190328
DTEND;VALUE=DATE:20190329
DTSTAMP:20210406T031749
CREATED:20190325T214941Z
LAST-MODIFIED:20190325T215045Z
UID:154791-1553731200-1553817599@www.patriotguard.org
SUMMARY:John Henry Richmond
DESCRIPTION:Honor Mission\nJohn Henry Richmond\, Veteran\nUSMC – Vietnam\nHudson\, Wisconsin – 03-28-19\n\n\n\n\nABOUT THE MISSION: \nJohn Henry Richmond\, age 70 of North Hudson\, passed away peacefully on March 22\, 2019 at his home. John was born on July 25\, 1948 in Sterling\, IL\, to parents\, Charles and Carol Richmond. He graduated from Hudson High School in 1966 and served in the U.S. Marine Corps during the Vietnam War.\n\n\nPRIMARY STAGING DETAILS: 03-28-19 \nStaging Time: 09:00 AM\n \nO’Connell Family Funeral Home\n520 11th Street South\nHudson\, Wisconsin 54016\n\n\nRide Captain: \nJohn “Doc” Nagel\ndocwatasch@yahoo.com\,\n\n\nSpecial Instructions: \nStaging 9:00 a.m.\nVisitation 10:00 a.m. – 11:00 a.m.\nService 11:00 a.m.\nMN Patriot Guard will attend interment at Fort Snelling 1:00 p.m.\n\n\nFlags & Water:\nFlags will be provided\nLarge Bike Flags will NOT be needed.\nWater WILL NOT be provided\, please bring your own.\n\n\n\nSubmitted By: John Curran \nPosition: Wisconsin State Captain \n\nNote: You do not have to own/ride a motorcycle or be a veteran to join\, and membership is Free. The only requirement is RESPECT! To subscribe to receive mission notices\, log into the National Site and click on the Members tab at the top. Select the Subscribe to PGR Missions option.\n Print This Page
URL:https://www.patriotguard.org/mission/john-henry-richmond/
CATEGORIES:Honor Mission
END:VEVENT
END:VCALENDAR