BEGIN:VCALENDAR
VERSION:2.0
PRODID:-//Patriot Guard Riders - ECPv5.3.2.1//NONSGML v1.0//EN
CALSCALE:GREGORIAN
METHOD:PUBLISH
X-WR-CALNAME:Patriot Guard Riders
X-ORIGINAL-URL:https://www.patriotguard.org
X-WR-CALDESC:Events for Patriot Guard Riders
BEGIN:VTIMEZONE
TZID:America/New_York
BEGIN:DAYLIGHT
TZOFFSETFROM:-0500
TZOFFSETTO:-0400
TZNAME:EDT
DTSTART:20170312T070000
END:DAYLIGHT
BEGIN:STANDARD
TZOFFSETFROM:-0400
TZOFFSETTO:-0500
TZNAME:EST
DTSTART:20171105T060000
END:STANDARD
END:VTIMEZONE
BEGIN:VEVENT
DTSTART;TZID=America/New_York:20170619T130000
DTEND;TZID=America/New_York:20170619T150000
DTSTAMP:20210404T172814
CREATED:20170619T170000Z
LAST-MODIFIED:20191201T031611Z
UID:321542-1497877200-1497884400@www.patriotguard.org
SUMMARY:John "GUZZI" Bitz\, Veteran\, USAF
DESCRIPTION:John “GUZZI” Bitz\, Veteran \nUSAF \nElwood\, Illinois – 19 Jun 2017\n\n[HR][/HR]\nABOUT THE MISSION: \nMr. Bitz served our country honorably\, proudly in The US Air Force. He loved riding his Moto Guzzi\, hence his nickname. \nJohn’s family has asked The Patriot Guard to honor him during his burial\, with honors. \nPRIMARY STAGING DETAILS: 19 Jun 2017 \n \nPrimary Staging Time: 1:00 P.M.\n\nALNC\n20953 Hoff Rd\n\nElwood\, Illinois –\n\n\n\n \nRide Captain:\n\nbigDave 312 405-2692\n\n \nSpecial Instructions:\n\n\n\n \n \nFlags & Water:\n\nFlags Will Be Provided\n\nIf you have large bike flags\, please bring them.\n\nWater WILL NOT be provided\, please bring your own.\n\n\nSubmitted By: David Gier\nPosition: Ride Captain \n[HR][/HR]\nNote:\nYou do not have to own/ride a motorcycle or be a Veteran to join and membership is Free. The only requirement is RESPECT! To join\, simply go to www.PatriotGuard.org and click on Register. Membership is Free. \nTo subscribe to receive mission notices\, log into the National Site and click on the Mission Tab at the top. Select Upcoming Missions by State. Scroll to the state(s) you would like to receive notices for and click on the green check mark. Detailed instructions are also located in the FAQs on the site by clicking on the Quick Links Tab and selecting FAQs.
URL:https://www.patriotguard.org/mission/john-guzzi-bitz-veteran-usaf/
END:VEVENT
END:VCALENDAR