BEGIN:VCALENDAR
VERSION:2.0
PRODID:-//Patriot Guard Riders - ECPv5.3.2.1//NONSGML v1.0//EN
CALSCALE:GREGORIAN
METHOD:PUBLISH
X-WR-CALNAME:Patriot Guard Riders
X-ORIGINAL-URL:https://www.patriotguard.org
X-WR-CALDESC:Events for Patriot Guard Riders
BEGIN:VTIMEZONE
TZID:America/New_York
BEGIN:DAYLIGHT
TZOFFSETFROM:-0500
TZOFFSETTO:-0400
TZNAME:EDT
DTSTART:20190310T070000
END:DAYLIGHT
BEGIN:STANDARD
TZOFFSETFROM:-0400
TZOFFSETTO:-0500
TZNAME:EST
DTSTART:20191103T060000
END:STANDARD
END:VTIMEZONE
BEGIN:VEVENT
DTSTART;VALUE=DATE:20190722
DTEND;VALUE=DATE:20190723
DTSTAMP:20210404T064949
CREATED:20190719T233225Z
LAST-MODIFIED:20190719T233225Z
UID:168004-1563753600-1563839999@www.patriotguard.org
SUMMARY:John Elmer Higgins Sr
DESCRIPTION:Honor Mission\nJohn Elmer Higgins Sr\, Veteran\nUSN –  Korea\nKansas City\, Missouri – 07-22-19\n\n\nSource: \n\nABOUT THE MISSION: \nThe family of Navy Veteran John Elmer Higgins Sr\, age 88\, has requested Patriot Guard to stand a graveside service for placement of  his urn with Full Military Honors.\nJohn served in the Navy during Korea War.\n\n\nPRIMARY STAGING DETAILS: 07-22-19 \nStaging Time: 9:30 am\n \nFloral Hills Cemetery\n7000 Blue Ridge Blvd\nKansas City\, Missouri 64133\nMap\n\n\nRide Captain: \nTerry Roettele\n816-527-5493\ntroettele1988.tr@gmail.com\n\n\nSpecial Instructions: \n9:30 am: Staging and Setting Flags.\n10:00 am: Stand Flag Line Graveside Service with Full Military Honors.\n\n\nFlags & Water:\nFlags will be provided\nLarge Bike Flags will NOT be needed.\nWater will be provided.\n\n\n\n\nSubmitted By: Terry Roettele \nPosition: Missouri Ride Captain \n\nNote: You do not have to own/ride a motorcycle or be a veteran to join\, and membership is Free. The only requirement is RESPECT! To subscribe to receive mission notices\, log into the National Site and click on the Members tab at the top. Select the Subscribe to PGR Missions option.\n Print This Page
URL:https://www.patriotguard.org/mission/john-elmer-higgins-sr/
CATEGORIES:Honor Mission
END:VEVENT
END:VCALENDAR