BEGIN:VCALENDAR
VERSION:2.0
PRODID:-//Patriot Guard Riders - ECPv5.6.0//NONSGML v1.0//EN
CALSCALE:GREGORIAN
METHOD:PUBLISH
X-WR-CALNAME:Patriot Guard Riders
X-ORIGINAL-URL:https://www.patriotguard.org
X-WR-CALDESC:Events for Patriot Guard Riders
BEGIN:VTIMEZONE
TZID:America/New_York
BEGIN:DAYLIGHT
TZOFFSETFROM:-0500
TZOFFSETTO:-0400
TZNAME:EDT
DTSTART:20160313T070000
END:DAYLIGHT
BEGIN:STANDARD
TZOFFSETFROM:-0400
TZOFFSETTO:-0500
TZNAME:EST
DTSTART:20161106T060000
END:STANDARD
END:VTIMEZONE
BEGIN:VEVENT
DTSTART;TZID=America/New_York:20160715T090000
DTEND;TZID=America/New_York:20160715T110000
DTSTAMP:20210512T230119
CREATED:20160715T130000Z
LAST-MODIFIED:20191201T144348Z
UID:410625-1468573200-1468580400@www.patriotguard.org
SUMMARY:John Edward Curran\, 93\, USN
DESCRIPTION:Ladies and Gentlemen of the Patriot Guard Riders\, we have been requested to stand for John Edward Curran\, age 93. He was raised in N.W. Portland and attended St. Patrick’s Grade School.  At 16 he joined the Civilian Conservation Corps\, then returned to serve in the Navy in 1942.  He served aboard the USS Wilson as a Torpedoman 1C. He was awarded numerous honors and medals\, including the Asiatic–Pacific Campaign Medal w/10 stars\, American Campaign Medal\, Good Conduct Medal\, WWII Victory Medal\, and Philippine Liberation Medal w/2 stars. He also earned the Medal of Valor after jumping overboard to save a fellow sailor’s life. Please join us as we help support his family\, pay our respects\, and honor his service to our nation. \nMission Date: Friday\, 15/JUL/16 \nRide Captain:  Smokie Parrack\, rwpjr1972@gmail.com \nStaging Location: Mt. Calvary Catholic Cemetery – 333 SW Skyline Blvd\, Portland\, OR 97221. \nStaging Time: 10:00 am\nBriefing: 10:20 am\nFlag line Set:  10:30 am\nService Begins: 11:00 am
URL:https://www.patriotguard.org/mission/john-edward-curran-93-usn/
CATEGORIES:Archive
END:VEVENT
END:VCALENDAR