BEGIN:VCALENDAR
VERSION:2.0
PRODID:-//Patriot Guard Riders - ECPv5.3.2.1//NONSGML v1.0//EN
CALSCALE:GREGORIAN
METHOD:PUBLISH
X-WR-CALNAME:Patriot Guard Riders
X-ORIGINAL-URL:https://www.patriotguard.org
X-WR-CALDESC:Events for Patriot Guard Riders
BEGIN:VTIMEZONE
TZID:America/New_York
BEGIN:DAYLIGHT
TZOFFSETFROM:-0500
TZOFFSETTO:-0400
TZNAME:EDT
DTSTART:20190310T070000
END:DAYLIGHT
BEGIN:STANDARD
TZOFFSETFROM:-0400
TZOFFSETTO:-0500
TZNAME:EST
DTSTART:20191103T060000
END:STANDARD
END:VTIMEZONE
BEGIN:VEVENT
DTSTART;VALUE=DATE:20190928
DTEND;VALUE=DATE:20190929
DTSTAMP:20210401T123044
CREATED:20190925T184509Z
LAST-MODIFIED:20190925T184509Z
UID:176700-1569628800-1569715199@www.patriotguard.org
SUMMARY:John E Wippler Jr\, CPO (ret) US Navy
DESCRIPTION:Honor Mission\nJohn E Wippler Jr\, Retired\nUSN – Vietnam\nColumbus\, Georgia – 09-28-19\n\n\n\n\nABOUT THE MISSION: \nThe family of Chief Petty Officer John E Wippler Jr. has requested that the Patriot Guard Riders stand to honor their loved one’s service to our country. It is our honor to do so. CPO Wipper passed away in Hogansville\, GA on 21 September 2019 after a long battle with cancer. He was 73 years old. Chief Wippler served his country in the the US Navy retiring after 20 years. Chief Wippler served two tours in Vietnam and among his many decorations were the Vietnam service Medal with two bronze stars\, Vietnam Campaign Medal\, Navy Unit Commendation Ribbon and National Defense Service Medal. We will stand a flag line for Chief Wippler’s graveside service on 28 September 2019\n\n\nPRIMARY STAGING DETAILS: 09-28-19 \nStaging Time: 09:15 am \nAdmin Building\, Parkhilll Cemetery\n4161 Macon Road\nColumbus\, Georgia 31907\n\n\nRide Captain: \nRob “Bees” Butler\nbees03@aol.com\n706 987-0686\n\n\nSpecial Instructions: \nWe will stage at the Parkhill admin building and escort the family to the graveside for the service at 10:00 AM\n\n\nFlags & Water:\n\nFlags will be provided\nIf you have large bike flags\, please bring them.\nWater will be provided.\n\n\n\nSubmitted By: Rob Butler \nPosition: Georgia Ride Captain \n\nNote: You do not have to own/ride a motorcycle or be a veteran to join\, and membership is Free. The only requirement is RESPECT! To subscribe to receive mission notices\, log into the National Site and click on the Members tab at the top. Select the Subscribe to PGR Missions option.\n Print This Page
URL:https://www.patriotguard.org/mission/john-e-wippler-jr-cpo-ret-us-navy/
CATEGORIES:Honor Mission
END:VEVENT
END:VCALENDAR