BEGIN:VCALENDAR
VERSION:2.0
PRODID:-//Patriot Guard Riders - ECPv5.6.0//NONSGML v1.0//EN
CALSCALE:GREGORIAN
METHOD:PUBLISH
X-WR-CALNAME:Patriot Guard Riders
X-ORIGINAL-URL:https://www.patriotguard.org
X-WR-CALDESC:Events for Patriot Guard Riders
BEGIN:VTIMEZONE
TZID:America/New_York
BEGIN:DAYLIGHT
TZOFFSETFROM:-0500
TZOFFSETTO:-0400
TZNAME:EDT
DTSTART:20160313T070000
END:DAYLIGHT
BEGIN:STANDARD
TZOFFSETFROM:-0400
TZOFFSETTO:-0500
TZNAME:EST
DTSTART:20161106T060000
END:STANDARD
END:VTIMEZONE
BEGIN:VEVENT
DTSTART;TZID=America/New_York:20160823T090000
DTEND;TZID=America/New_York:20160823T110000
DTSTAMP:20210511T200430
CREATED:20160823T130000Z
LAST-MODIFIED:20191201T143424Z
UID:409753-1471942800-1471950000@www.patriotguard.org
SUMMARY:John E. McCarter\, USA\, Vietnam /  Dibble\, Elgin
DESCRIPTION:The  family of USA Vietnam Veteran SGT John Edward McCarter  has asked the PGR  to stand a flag line at his services to be held on 23 Aug. 2016 in  Dibble\, OK. \nServices will be held at the Free Will Baptist Church on  Old Town First St. St.\, Dibble\, OK. at 1000. \nInterment will follow at  Ft. Sill National Cemetery\, 2648 NE Jake Dunn Rd.\, Elgin\, OK. \n Date: \n1000\, Tuesday\, 23 August\, 2016\n\n Staging:         \n0845\nFree Will Baptist Church\nOld Town First St.\nDibble\, OK.\n\n Mandatory Briefing:  \n0900\nRiders must attend briefing if riding in escort.\n\nSet flag line:\n0930 \n The  riders will set a flag line for incoming friends and family.  Upon  completion of service\, a respect line will be formed as he is brought to  the coach.  An escort will be provided to Ft. Sill National Cemetery  where a second respect line will be set.  \nWeather: Partly  cloudy with a high of 89\, south wind to 20 mph\, 50% chance of rain.   Please hydrate before and during mission\, and ride to your ability. \n*Directional Note –  From OK 39\, take Rockwell north to Fireman’s Rd. Fireman’s Rd. east to  Old Town First St.\, then Old Town First St. north to the church. \nRCIC:    Ray\, (rayneman) Gehrig\nrayneman@cox.net
URL:https://www.patriotguard.org/mission/john-e-mccarter-usa-vietnam-dibble-elgin/
CATEGORIES:Archive
END:VEVENT
END:VCALENDAR